BEGIN:VCALENDAR
VERSION:2.0
PRODID:-//Ocean State Chess Association - ECPv6.15.20//NONSGML v1.0//EN
CALSCALE:GREGORIAN
METHOD:PUBLISH
X-WR-CALNAME:Ocean State Chess Association
X-ORIGINAL-URL:https://oceanstatechess.com
X-WR-CALDESC:Events for Ocean State Chess Association
REFRESH-INTERVAL;VALUE=DURATION:PT1H
X-Robots-Tag:noindex
X-PUBLISHED-TTL:PT1H
BEGIN:VTIMEZONE
TZID:America/New_York
BEGIN:DAYLIGHT
TZOFFSETFROM:-0500
TZOFFSETTO:-0400
TZNAME:EDT
DTSTART:20250309T070000
END:DAYLIGHT
BEGIN:STANDARD
TZOFFSETFROM:-0400
TZOFFSETTO:-0500
TZNAME:EST
DTSTART:20251102T060000
END:STANDARD
BEGIN:DAYLIGHT
TZOFFSETFROM:-0500
TZOFFSETTO:-0400
TZNAME:EDT
DTSTART:20260308T070000
END:DAYLIGHT
BEGIN:STANDARD
TZOFFSETFROM:-0400
TZOFFSETTO:-0500
TZNAME:EST
DTSTART:20261101T060000
END:STANDARD
BEGIN:DAYLIGHT
TZOFFSETFROM:-0500
TZOFFSETTO:-0400
TZNAME:EDT
DTSTART:20270314T070000
END:DAYLIGHT
BEGIN:STANDARD
TZOFFSETFROM:-0400
TZOFFSETTO:-0500
TZNAME:EST
DTSTART:20271107T060000
END:STANDARD
END:VTIMEZONE
BEGIN:VEVENT
DTSTART;TZID=America/New_York:20260620T100000
DTEND;TZID=America/New_York:20260620T153000
DTSTAMP:20260423T094227
CREATED:20251218T141814Z
LAST-MODIFIED:20251218T142130Z
UID:21791-1781949600-1781969400@oceanstatechess.com
SUMMARY:OSCA 4th Annual Historic Warren Armory Chess Tournament (Warren\, RI) - $500
DESCRIPTION:DATE & LOCATION FINALIZED \n\n\n\n \n\n\n\n\n\n\n\n\n\n\n\n\n\n\n\n\n\n \n\n\n\nLocation: Historic Warren Armory11 Jefferson StreetWarren\, RI 02885 \n\n\n\nThe Chess Tournament will be held in this historic 1842 Military Armory located in Warren\, RI \n\n\n\nLAST FEW YEARS EVENT had 70-100+ Players from 5-7 States !! – Everyone wants to “Come Play Chess in the Castle”See info from last year’s event: https://oceanstatechess.com/past-events/ \n\n\n\n* PLEASE REGISTER AT BOTTOM OF THIS WEB PAGE * \n\n\n\nFormat: 4SS\, G/30; d5 – 4 Rounds.Round 1 starts around 10:00 AM. Rounds run continuously\, 30-40 Min Break for Lunch after Rd. 2 \n\n\n\nSECTIONS & PRIZES $500 b/30 paid entries from Open/U1600* OPEN Section = $200 – $100\, Trophies for 1st\, 2nd\, 3rd Place – Adults & High Level* U1600 Section = $100 – $50\, Trophies for 1st\, 2nd\, 3rd Place – Adults & Medium Level* Class Prize = Biggest Upset $50 for (OPEN / U1600 Sections)* U1200 Section = Trophies for 1st\, 2nd\, 3rd place\, Medals – Intermediate Adult & Scholastic* U800 Section = Trophies for 1st\, 2nd\, 3rd Place\, Medals – Scholastic Gr. K-12 \n\n\n\nENTRY FEESU1200\, U800 Sections: Early-Bird Only $35 until Sun. 6/7. REGULAR is $10 more ($40) until Mon 6/8 -Thurs. 6/18.OPEN / U1600 Sections: EARLY-BIRD Only $40 until 6/7. REGULAR is $10 more ($45) until Mon 6/8 -Thurs. 6/18.* FREE Entry for GM’s\, WGM’s\, IM’s\, FM’s\, WIM’s* LATE Entry Fee the Day before Fri. 6/19 + Day of the Event 6/20 is +$10 More. EF Prices $50 & $55. Discounts do not apply \n\n\n\nDISCOUNTS – Registration includes FREE USCF Membership (Not USCF Renewals)* 1st-TIME STUDENT DISCOUNT (Age 3-18) = $34 Registration Includes a FREE $24 USCF “Youth” Membership* 1st-TIME YOUNG ADULT DISCOUNT (Age 19-24) = $43 Registration\, Includes FREE $33 USCF “Young Adult” Membership* 1st-TIME ADULT DISCOUNT (Age 25-64) = $64 Registration\, Includes FREE $54 USCF “Adult” Membership* 1st-TIME SENIOR DISCOUNT (Age 65-99) = $58 Registration\, Includes FREE $48 USCF “Senior” Membership** All Discounted Memberships must be done IN ADVANCE by 6/18. and NOT ON-SITE. (1st -Time players\, No Renewals) \n\n\n\nADDITIONAL TOURNAMENT INFORMATION* ADDITIONAL PARKING\, BEHIND WARREN TOWN HALL\, 514 MAIN STREET\, WARREN\, RI 02885* AIR-CONDITIONING will be provided in the Tournament Room* Skittles Room Provided\, Coffee Shop on same street* Free Tour of the Armory during Lunch* Lunch break provided\, multiple restaurants to walk to in neighborhood* Round 1 will start at 10:00 AM\, will run continuously\, Lunch break after Round 2 (around 12:15-12:30)* Scholastic U1200 / U800 Sections will Finish around 2:30 PM\, OPEN / U1600 Sections around 3:30 PM* Chess sets & clocks will be provided. Please bring a clock if you have one.* Byes must be requested in advance. Late entries paired if possible or get 1/2 point bye.* You may arrive at 11:00 for 2nd Round\, but request one 1/2 point bye for Round 1 (advance entry)* Players can always play “up” in a higher section. U800 is a Scholastic Section. U1200 Intermediate adults & Kids* Student Scholarships available\, Email organizer with hardship reason: frank@oceanstatechess.com* On-site Entry Fee the Day of Event is $10 extra. If possible\, please register in advance online. \n\n\n\n* REGISTER AT BOTTOM OF PAGE * \n\n\n\nSee News Article about the TournamentWarren Gazette East Bay News Article Written By Ethan Hartley. Posted Wednesday\, June 21\, 2023https://www.eastbayri.com/stories/largest-chess-tournament-in-east-bay-history-held-in-warren\,113627 \n\n\n\n \n\n\n\n\n\n\n\n\n\n\n\n\n\n\n\n\n\n\n\n\n\n\n\n \n\n\n\n\n\n\n\nOcean State Chess Association is the Official R.I. State Affiliate of the United States Chess Federation
URL:https://oceanstatechess.com/event/4th-historic-warren-armory/
LOCATION:Historic Warren Armory\, 11 Jefferson Street\, Warren\, Rhode Island\, 02885\, United States
ATTACH;FMTTYPE=image/jpeg:https://oceanstatechess.com/wp-content/uploads/2024/06/Warren-Armory.jpg
ORGANIZER;CN="Ocean State Chess Association":MAILTO:frank@oceanstatechess.com
END:VEVENT
END:VCALENDAR