BEGIN:VCALENDAR
VERSION:2.0
PRODID:-//Ocean State Chess Association - ECPv6.15.20//NONSGML v1.0//EN
CALSCALE:GREGORIAN
METHOD:PUBLISH
X-ORIGINAL-URL:https://oceanstatechess.com
X-WR-CALDESC:Events for Ocean State Chess Association
REFRESH-INTERVAL;VALUE=DURATION:PT1H
X-Robots-Tag:noindex
X-PUBLISHED-TTL:PT1H
BEGIN:VTIMEZONE
TZID:America/New_York
BEGIN:DAYLIGHT
TZOFFSETFROM:-0500
TZOFFSETTO:-0400
TZNAME:EDT
DTSTART:20250309T070000
END:DAYLIGHT
BEGIN:STANDARD
TZOFFSETFROM:-0400
TZOFFSETTO:-0500
TZNAME:EST
DTSTART:20251102T060000
END:STANDARD
BEGIN:DAYLIGHT
TZOFFSETFROM:-0500
TZOFFSETTO:-0400
TZNAME:EDT
DTSTART:20260308T070000
END:DAYLIGHT
BEGIN:STANDARD
TZOFFSETFROM:-0400
TZOFFSETTO:-0500
TZNAME:EST
DTSTART:20261101T060000
END:STANDARD
BEGIN:DAYLIGHT
TZOFFSETFROM:-0500
TZOFFSETTO:-0400
TZNAME:EDT
DTSTART:20270314T070000
END:DAYLIGHT
BEGIN:STANDARD
TZOFFSETFROM:-0400
TZOFFSETTO:-0500
TZNAME:EST
DTSTART:20271107T060000
END:STANDARD
END:VTIMEZONE
BEGIN:VEVENT
DTSTART;TZID=America/New_York:20260711T100000
DTEND;TZID=America/New_York:20260711T150000
DTSTAMP:20260422T004308
CREATED:20250625T225656Z
LAST-MODIFIED:20260420T214452Z
UID:19159-1783764000-1783782000@oceanstatechess.com
SUMMARY:2nd Annual Waters Free Chess Tournament (N. Attleborough\, MA) - FREE Event
DESCRIPTION:SATURDAY\, JULY 11\, 2026 \n\n\n\n \n\n\n\nREGISTER EARLY – WE ONLY HAVE SPACE FOR 90-95 PLAYERSOVER 100+ PLAYERS LAST YEAR  \n\n\n\nFREE EVENT – LUNCH INCLUDED \n\n\n\nBoth USCF Rated & Unrated “Fun” Sections for Kids and AdultsMust Pre-Register by July 7th.  \n\n\n\n\n\n\n\nLocationWaters Church57 John L Dietsch SquareAttleboro Falls\, MA 02763 \n\n\n\n\nCost: FREE to participate! Lunch is included – Must Pre-Register for this event\n\n\n\n\nFormat: 4SS\, G/30;d5 – 4 Rounds\, 30 minutes each with 5 second delay \n\n\n\nSections* Advanced Open Section (USCF Rated – Membership Required)* Amateur U1400 Section (USCF Rated – Membership Required)* Novice Adult Section (Unrated – No USCF Membership Required)* Novice Kid Section (Unrated – No USCF Membership Required) \n\n\n\nPrizes* Trophies for 1st\, 2nd\, and 3rd place in each section* Chess Medals for ties* Additional prizes like chess books\, gift cards\, free future tournament entries will be awarded! \n\n\n\nAdditional Information* Must Register in advance by July 7\, 2025* There will be no on-site entries the day of the event* Please arrive by 9:30-9:45 am to check-in* Lunch provided – sandwiches\, chips\, and water* Air-conditioned facility* Free parking is available onsite.* Play for fun in the Unrated sections\, or Rated Sections for more serious players * Chessboards and clocks are provided* Please check out the Waters Church website: https://waterschurch.org/* Chief Tournament Director Frank DelBonis attends Waters Church\,  please feel free to reach out to me if you have questions \n\n\n\nPlease Register in Advance by July 8 – No On-Site entry the day of the event \n\n\n\nREGSTER HERE: COMING SOON
URL:https://oceanstatechess.com/event/waters-free-chess-tournament/
LOCATION:Waters Church\, 57 John L Dietsch Square\, North Attleborough\, Massachusetts\, 02763\, United States
ATTACH;FMTTYPE=image/jpeg:https://oceanstatechess.com/wp-content/uploads/2025/06/Waters-Chess-for-the-King-1.jpg
ORGANIZER;CN="Ocean State Chess Association":MAILTO:frank@oceanstatechess.com
END:VEVENT
BEGIN:VEVENT
DTSTART;TZID=America/New_York:20260801T100000
DTEND;TZID=America/New_York:20260801T153000
DTSTAMP:20260422T004308
CREATED:20260409T164337Z
LAST-MODIFIED:20260409T165059Z
UID:24849-1785578400-1785598200@oceanstatechess.com
SUMMARY:OSCA 4th Annual Rogers Free Library Chess Tournament (Bristol\, RI)
DESCRIPTION:SATURDAY\, AUGUST 1\, 2026 \n\n\n\n \n\n\n\nTOURNAMENT DATE & LOCATION FINALIZED  \n\n\n\n\n\n\n\nLocation:Rogers Free Library525 Hope StreetBristol\, RI 02809 \n\n\n\nEntry: FREE to Play in TournamentPlease Register Early\, Limited Space – 32 players. Registration Opens Soon \n\n\n\nFormat: 4SS\, G/30;d5 – 4 Rounds\, 30 minutes each\, 5 second delay \n\n\n\nSections & Prizes * Advanced Open Section (Adult & Kids) – USCF RATED (US Chess Membership Required)* Intermediate / Novice Section (Adults & Kids) – UNRATED (No Membership Required) \n\n\n\nPRIZES – Advanced Section1st Place – $75 Gift Certificate 2nd Place – $50 Gift Certificate3rd Place –  $ 25 Gift Certificate \n\n\n\nPRIZES – Intermediate / Novice1st Place Trophy 2nd Place Trophy3rd Place Trophy \n\n\n\nDate: Saturday\, August 1\, 2026Time: 10:00 AM – 3:30 PMLocation: Roger Library\, Upstairs Conference RoomAudience:  All Ages  Categories:  Clubs \n\n\n\n \n\n\n\nTournament Information* Both Adults & Kids are invited to play in the 3rd Annual RFL Chess Championship* ALL PLAYERS looking to participate MUST register (Recommended In Advance)* Tournament is Free\, please register early\, and contact us if you need to cancel so someone else can play* Limited Space\, only 32 people will compete for the trophies and grand prizes!* Tournament will start promptly at 10:00 am\, please check in by 9:45 am* Chess sets and clocks will be provided* Bring your best game and good luck* Event is sponsored by Roger Free Library with help from Ocean State Chess Association* Volunteer Chief TD: Frank DelBonis\, Associate National Tournament Director\, Ocean State Chess Association \n\n\n\n \n\n\n\nREGISTER HERE: OPENS SOON
URL:https://oceanstatechess.com/event/osca-4th-rogers-free-library-chess-tournament/
LOCATION:Rogers Free Library\, 525 Hope Street\, Bristol\, Rhode Island\, United States
ATTACH;FMTTYPE=image/png:https://oceanstatechess.com/wp-content/uploads/2024/07/Rogers-Free-Library_Bristol-Front-of-Building.png
ORGANIZER;CN="Ocean State Chess Association":MAILTO:frank@oceanstatechess.com
END:VEVENT
BEGIN:VEVENT
DTSTART;TZID=America/New_York:20260803T000000
DTEND;TZID=America/New_York:20260809T235959
DTSTAMP:20260422T004308
CREATED:20250817T063534Z
LAST-MODIFIED:20260420T015038Z
UID:19785-1785715200-1786319999@oceanstatechess.com
SUMMARY:2026 U.S. Open Championship (Grand Rapids\, MI)
DESCRIPTION:US OPEN CHESS CHAMPIONSHIP INFORMATION HERE: https://new.uschess.org/us-open-2026 \n\n\n\nFULL SCHEDULE CLICK HERE: https://new.uschess.org/us-open-2026/schedules \n\n\n\n2026 U.S. Open Championship\, August 3-9Playing Site: DeVos Place Convention Center303 Monroe Avenue NWGrand Rapids MI 49503Tournament hotels:Amway Grand PlazaCourtyard by Marriott Downtown Grand RapidsNote: both are attached to DeVos Place Convention Center \n\n\n\nREGISTER HERE:  https://www.kingregistration.com/event/2026USOpen \n\n\n\nHOTEL INFORMATION: CLICK HERE \n\n\n\n \n\n\n\nU.S. Open Round Times\n\n\n\nThe US Open has one section\, in which anyone can enter. This event is NOT rated by FIDE. \n\n\n\n9 Round Swiss with 3 Schedules7-Day Schedule: 7pm 8/3\, 10am & 7pm 8/4\, 10am & 7pm 8/5\, 7pm 8/6\, 7pm 8/7\, 7pm 8/8\, 3pm 8/9.5-Day Schedule:   First 5 rounds 3pm & 7pm 8/5\, 10am\, 3pm & 7pm 8/6; round 6 at 10am 8/7. (Round 6 is played at the 7-day schedule time control. Then the 5-day schedule merges into the 7-day schedule for round 7 at 7pm on 8/1.)4-Day Schedule:   First 6 rounds 1pm\, 7pm\, & 10pm 8/6; 10am\, 1pm\, & 4pm 8/7. (Then it merges into the 7-day schedule for round 7 at 7pm on 8/7.) All schedules merge after Round 6 and compete for the same prizes. \n\n\n\nTime Control:7-Day Schedule: all rounds 40/100\, SD/30\, inc/30 (30-second increment from move one)5-Day Schedule: rounds 1-5 at G/90 d5   rounds 6-9 at 40/100\, SD/30\, inc/304-Day Schedule: rounds 1-6 at G/60 d5   rounds 7-9 at 40/100\, SD/30\, inc/30 \n\n\n\n___________________________________________________________________________   \n\n\n\nINVITATIONALS (GRADE K-12) & SENIOR CHAMPIONSHIPShttps://new.uschess.org/us-open-2026/invitationals-information \n\n\n\nHOTEL DISCOUNT LINK:  CLICK HERE \n\n\n\nNational invitational schedules: Irwin | Denker | Haring | Barber | Rockefeller | Ashley \n\n\n\nThe Arnold Denker Tournament of High School Champions is an annual event held in conjunction with the U.S. Open\, in which the 51 high school champions of each state affiliate and the District of Columbia compete to determine who will be crowned the Denker Champion of Champions. It was founded in 1985 by Grandmaster Arnold Denker (1914-2005). \n\n\n\nThe Dewain Barber Tournament of Middle School Champions was founded in 2011 by Dewain Barber to provide a competition comparable to the Denker tournament for middle school students. \n\n\n\nThe Ruth Haring National Girls’ Tournament of Champions is a tournament of Champions for girls from across the United States. It is held annually in the model of the Denker and Barber Tournaments. The tournament is named in memory of WIM Ruth Haring (1955-2018)\, former US Chess President. \n\n\n\nThe John D. Rockefeller III National Tournament of Elementary School State Champions was founded in 2020 to provide a competition comparable to the Denker tournament for elementary school students. This event is named in memory of John D. Rockefeller III (1906-1978)\, noted philanthropist. \n\n\n\nThe GM Maurice Ashley National Tournament of K-3 State Champions is an annual invitational event run by US Chess that will start determining the Ashley National Champion in 2026. The tournament is named after GM Maurice Ashley. \n\n\n\nThe John T. Irwin National Senior Tournament of Champions is a tournament of Champions for seniors from across the United States. This event was founded in 2018\, and is named in memory of John T. Irwin (1940-2019)\, poet\, literary critic\, and English professor. \n\n\n\nThe FM Sunil Weeramantry National Blitz Tournament of State Champions is a blitz tournament for State Champions from across the United States attending the other US Open invitationals. This event was founded in 2020\, and is named for Sunil Weeramantry\, chess master\, author\, coach\, organizer\, and scholastic official. \n\n\n\nParticipant lists\, schedules\, and other information can be found at the tournament websites above. \n\n\n\nTHIS TOURNAMENT IS BY INVITE ONLY – TOP PLAYERS FORM EACH STATE \n\n\n\n\n\nSEE NATIONAL USCF EVENTS HERE: https://new.uschess.org/national-events-calendar
URL:https://oceanstatechess.com/event/2026-u-s-open-championship/
LOCATION:Rhode Island
ATTACH;FMTTYPE=image/png:https://oceanstatechess.com/wp-content/uploads/2025/08/image-15.png
END:VEVENT
END:VCALENDAR