BEGIN:VCALENDAR
VERSION:2.0
PRODID:-//Ocean State Chess Association - ECPv6.15.20//NONSGML v1.0//EN
CALSCALE:GREGORIAN
METHOD:PUBLISH
X-ORIGINAL-URL:https://oceanstatechess.com
X-WR-CALDESC:Events for Ocean State Chess Association
REFRESH-INTERVAL;VALUE=DURATION:PT1H
X-Robots-Tag:noindex
X-PUBLISHED-TTL:PT1H
BEGIN:VTIMEZONE
TZID:America/New_York
BEGIN:DAYLIGHT
TZOFFSETFROM:-0500
TZOFFSETTO:-0400
TZNAME:EDT
DTSTART:20250309T070000
END:DAYLIGHT
BEGIN:STANDARD
TZOFFSETFROM:-0400
TZOFFSETTO:-0500
TZNAME:EST
DTSTART:20251102T060000
END:STANDARD
BEGIN:DAYLIGHT
TZOFFSETFROM:-0500
TZOFFSETTO:-0400
TZNAME:EDT
DTSTART:20260308T070000
END:DAYLIGHT
BEGIN:STANDARD
TZOFFSETFROM:-0400
TZOFFSETTO:-0500
TZNAME:EST
DTSTART:20261101T060000
END:STANDARD
BEGIN:DAYLIGHT
TZOFFSETFROM:-0500
TZOFFSETTO:-0400
TZNAME:EDT
DTSTART:20270314T070000
END:DAYLIGHT
BEGIN:STANDARD
TZOFFSETFROM:-0400
TZOFFSETTO:-0500
TZNAME:EST
DTSTART:20271107T060000
END:STANDARD
END:VTIMEZONE
BEGIN:VEVENT
DTSTART;TZID=America/New_York:20260801T100000
DTEND;TZID=America/New_York:20260801T153000
DTSTAMP:20260423T125635
CREATED:20260409T164337Z
LAST-MODIFIED:20260409T165059Z
UID:24849-1785578400-1785598200@oceanstatechess.com
SUMMARY:OSCA 4th Annual Rogers Free Library Chess Tournament (Bristol\, RI)
DESCRIPTION:SATURDAY\, AUGUST 1\, 2026 \n\n\n\n \n\n\n\nTOURNAMENT DATE & LOCATION FINALIZED  \n\n\n\n\n\n\n\nLocation:Rogers Free Library525 Hope StreetBristol\, RI 02809 \n\n\n\nEntry: FREE to Play in TournamentPlease Register Early\, Limited Space – 32 players. Registration Opens Soon \n\n\n\nFormat: 4SS\, G/30;d5 – 4 Rounds\, 30 minutes each\, 5 second delay \n\n\n\nSections & Prizes * Advanced Open Section (Adult & Kids) – USCF RATED (US Chess Membership Required)* Intermediate / Novice Section (Adults & Kids) – UNRATED (No Membership Required) \n\n\n\nPRIZES – Advanced Section1st Place – $75 Gift Certificate 2nd Place – $50 Gift Certificate3rd Place –  $ 25 Gift Certificate \n\n\n\nPRIZES – Intermediate / Novice1st Place Trophy 2nd Place Trophy3rd Place Trophy \n\n\n\nDate: Saturday\, August 1\, 2026Time: 10:00 AM – 3:30 PMLocation: Roger Library\, Upstairs Conference RoomAudience:  All Ages  Categories:  Clubs \n\n\n\n \n\n\n\nTournament Information* Both Adults & Kids are invited to play in the 3rd Annual RFL Chess Championship* ALL PLAYERS looking to participate MUST register (Recommended In Advance)* Tournament is Free\, please register early\, and contact us if you need to cancel so someone else can play* Limited Space\, only 32 people will compete for the trophies and grand prizes!* Tournament will start promptly at 10:00 am\, please check in by 9:45 am* Chess sets and clocks will be provided* Bring your best game and good luck* Event is sponsored by Roger Free Library with help from Ocean State Chess Association* Volunteer Chief TD: Frank DelBonis\, Associate National Tournament Director\, Ocean State Chess Association \n\n\n\n \n\n\n\nREGISTER HERE: OPENS SOON
URL:https://oceanstatechess.com/event/osca-4th-rogers-free-library-chess-tournament/
LOCATION:Rogers Free Library\, 525 Hope Street\, Bristol\, Rhode Island\, United States
ATTACH;FMTTYPE=image/png:https://oceanstatechess.com/wp-content/uploads/2024/07/Rogers-Free-Library_Bristol-Front-of-Building.png
ORGANIZER;CN="Ocean State Chess Association":MAILTO:frank@oceanstatechess.com
END:VEVENT
END:VCALENDAR