BEGIN:VCALENDAR
VERSION:2.0
PRODID:-//Ocean State Chess Association - ECPv6.15.20//NONSGML v1.0//EN
CALSCALE:GREGORIAN
METHOD:PUBLISH
X-ORIGINAL-URL:https://oceanstatechess.com
X-WR-CALDESC:Events for Ocean State Chess Association
REFRESH-INTERVAL;VALUE=DURATION:PT1H
X-Robots-Tag:noindex
X-PUBLISHED-TTL:PT1H
BEGIN:VTIMEZONE
TZID:America/New_York
BEGIN:DAYLIGHT
TZOFFSETFROM:-0500
TZOFFSETTO:-0400
TZNAME:EDT
DTSTART:20250309T070000
END:DAYLIGHT
BEGIN:STANDARD
TZOFFSETFROM:-0400
TZOFFSETTO:-0500
TZNAME:EST
DTSTART:20251102T060000
END:STANDARD
BEGIN:DAYLIGHT
TZOFFSETFROM:-0500
TZOFFSETTO:-0400
TZNAME:EDT
DTSTART:20260308T070000
END:DAYLIGHT
BEGIN:STANDARD
TZOFFSETFROM:-0400
TZOFFSETTO:-0500
TZNAME:EST
DTSTART:20261101T060000
END:STANDARD
BEGIN:DAYLIGHT
TZOFFSETFROM:-0500
TZOFFSETTO:-0400
TZNAME:EDT
DTSTART:20270314T070000
END:DAYLIGHT
BEGIN:STANDARD
TZOFFSETFROM:-0400
TZOFFSETTO:-0500
TZNAME:EST
DTSTART:20271107T060000
END:STANDARD
END:VTIMEZONE
BEGIN:VEVENT
DTSTART;TZID=America/New_York:20260515T000000
DTEND;TZID=America/New_York:20260517T235959
DTSTAMP:20260423T094333
CREATED:20250817T062946Z
LAST-MODIFIED:20260221T061750Z
UID:19780-1778803200-1779062399@oceanstatechess.com
SUMMARY:2026 U.S. Chess National Middle School K-8 Championship (Round Rock\, TX)
DESCRIPTION:MAY 15-17\, 2026 \n\n\n\n \n\n\n\n2026 U.S. Chess National Middle School Grade K-8 ChampionshipsLink below includes: Registration\, Rules\, Hotel\, Side Events\, Pre-Entry List:https://new.uschess.org/nms-championships-2026 \n\n\n\n \n\n\n\n \n\n\n\n2026 National Middle School (K-8) Championship\, May 15-17Kalahari Resorts & Conventions3001 Kalahari BoulevardRound Rock\, TX 78665HR: $199 single-quad \n\n\n\n \n\n\n\nSEE NATIONAL USCF EVENTS HERE: https://new.uschess.org/national-events-calendar
URL:https://oceanstatechess.com/event/2026-national-middle-school-k-8-championship/
LOCATION:Massachusetts
ATTACH;FMTTYPE=image/png:https://oceanstatechess.com/wp-content/uploads/2025/08/image-14.png
END:VEVENT
END:VCALENDAR