BEGIN:VCALENDAR
VERSION:2.0
PRODID:-//Ocean State Chess Association - ECPv6.15.20//NONSGML v1.0//EN
CALSCALE:GREGORIAN
METHOD:PUBLISH
X-ORIGINAL-URL:https://oceanstatechess.com
X-WR-CALDESC:Events for Ocean State Chess Association
REFRESH-INTERVAL;VALUE=DURATION:PT1H
X-Robots-Tag:noindex
X-PUBLISHED-TTL:PT1H
BEGIN:VTIMEZONE
TZID:America/New_York
BEGIN:DAYLIGHT
TZOFFSETFROM:-0500
TZOFFSETTO:-0400
TZNAME:EDT
DTSTART:20250309T070000
END:DAYLIGHT
BEGIN:STANDARD
TZOFFSETFROM:-0400
TZOFFSETTO:-0500
TZNAME:EST
DTSTART:20251102T060000
END:STANDARD
BEGIN:DAYLIGHT
TZOFFSETFROM:-0500
TZOFFSETTO:-0400
TZNAME:EDT
DTSTART:20260308T070000
END:DAYLIGHT
BEGIN:STANDARD
TZOFFSETFROM:-0400
TZOFFSETTO:-0500
TZNAME:EST
DTSTART:20261101T060000
END:STANDARD
BEGIN:DAYLIGHT
TZOFFSETFROM:-0500
TZOFFSETTO:-0400
TZNAME:EDT
DTSTART:20270314T070000
END:DAYLIGHT
BEGIN:STANDARD
TZOFFSETFROM:-0400
TZOFFSETTO:-0500
TZNAME:EST
DTSTART:20271107T060000
END:STANDARD
END:VTIMEZONE
BEGIN:VEVENT
DTSTART;TZID=America/New_York:20260507T190000
DTEND;TZID=America/New_York:20260507T204500
DTSTAMP:20260423T094334
CREATED:20250308T161539Z
LAST-MODIFIED:20260420T212906Z
UID:15840-1778180400-1778186700@oceanstatechess.com
SUMMARY:OSCA: Cranston Chess Club KIDS & TEENS Thursday's Gr. 5-12 (Cranston\, RI)
DESCRIPTION:EVERY THURSDAY 7:00 – 8:30 PM \n\n\n\n\n\n\n\n \n\n\n\nLocation:  Legion Bowl – 661 Park Ave\, Cranston\, RI 02910 \n\n\n\n \n\n\n\nCRANSTON CHESS CLUB FOR KIDS & TEENS – 7:00 – 8:30 PM * The Club is for Students Grades 5-12\, however students Grade 3 & 4 can check it out and join the fun* Fun Play for students Weekly Chess Lessons available  * Students get free lessons for your first visit (most weeks) – please email for more information* Elementary & Middle School students MUST be accompanied by a Parent or Guardian* Both USCF Rated and Unrated (Fun) Games for everyone – $5 per week to play for all students* (Optional) students can sign up for a U.S. Chess Federation “Youth” Membership (Age 3-19) on Premises to play in Rated Tournaments – USCF good for 1 year. Unrated Games do not require USCF membership* Option to play rated games – Time Control G/45;d+10 – each player gets 45 minutes plus 10 second increment* Video Arcade and Bowling Alley at the Legion Bowl as well* Medals for Top Unrated Players (No USCF Membership Required)* Pub on Park is located next door. food/beverages available – students cannot enter pub without a parent* Note: Before you attend\, please let us know you will be coming. Text OSCA President Frank DelBonis @ (401) 212-1335 \n\n\n\n \n\n\n\n\n\n\n\nUpcoming Meeting Days for 2026:* Thursday\, May 7\, 14\, 21\, 28 \n\n\n\n \n\n\n\n\n\n\n\nCranston Chess Club is supported by the Ocean State Chess Association (OSCA)The Official R.I. State Affiliate of the United States Chess Federation
URL:https://oceanstatechess.com/event/cranston-chess-club-kids-teens/
LOCATION:Legion Bowl & Billiards\, 661 Park Ave\, Cranston\, Rhode Island\, 02910\, United States
ATTACH;FMTTYPE=image/png:https://oceanstatechess.com/wp-content/uploads/2025/03/Chess-Club-for-Grades-5-12-2.png
ORGANIZER;CN="Ocean State Chess Association":MAILTO:frank@oceanstatechess.com
END:VEVENT
END:VCALENDAR