BEGIN:VCALENDAR
VERSION:2.0
PRODID:-//Ocean State Chess Association - ECPv6.15.20//NONSGML v1.0//EN
CALSCALE:GREGORIAN
METHOD:PUBLISH
X-WR-CALNAME:Ocean State Chess Association
X-ORIGINAL-URL:https://oceanstatechess.com
X-WR-CALDESC:Events for Ocean State Chess Association
REFRESH-INTERVAL;VALUE=DURATION:PT1H
X-Robots-Tag:noindex
X-PUBLISHED-TTL:PT1H
BEGIN:VTIMEZONE
TZID:America/New_York
BEGIN:DAYLIGHT
TZOFFSETFROM:-0500
TZOFFSETTO:-0400
TZNAME:EDT
DTSTART:20250309T070000
END:DAYLIGHT
BEGIN:STANDARD
TZOFFSETFROM:-0400
TZOFFSETTO:-0500
TZNAME:EST
DTSTART:20251102T060000
END:STANDARD
BEGIN:DAYLIGHT
TZOFFSETFROM:-0500
TZOFFSETTO:-0400
TZNAME:EDT
DTSTART:20260308T070000
END:DAYLIGHT
BEGIN:STANDARD
TZOFFSETFROM:-0400
TZOFFSETTO:-0500
TZNAME:EST
DTSTART:20261101T060000
END:STANDARD
BEGIN:DAYLIGHT
TZOFFSETFROM:-0500
TZOFFSETTO:-0400
TZNAME:EDT
DTSTART:20270314T070000
END:DAYLIGHT
BEGIN:STANDARD
TZOFFSETFROM:-0400
TZOFFSETTO:-0500
TZNAME:EST
DTSTART:20271107T060000
END:STANDARD
END:VTIMEZONE
BEGIN:VEVENT
DTSTART;TZID=America/New_York:20260430T190000
DTEND;TZID=America/New_York:20260430T210000
DTSTAMP:20260423T080915
CREATED:20250128T041456Z
LAST-MODIFIED:20260124T200338Z
UID:15140-1777575600-1777582800@oceanstatechess.com
SUMMARY:OSCA's Cranston Chess Club - SPECIAL BLITZ TOURNAMENT - 5th Week Event - Thurs. April. 30 - $300 Prizes
DESCRIPTION:Thursday\, April 30\, 2026 \n\n\n\nLocation: LEGION BOWL\, 661 Park Ave\, Cranston\, Rhode Island 02910 \n\n\n\nNote: This is a Special Week 5 Event (Every Second/Third Month) = Blitz Tournament 6SS – G/5;+3 Entry Fee: $20 cash\, Register On-site for this one-night Blitz Tournament Event. Please arrive by 6:50 PMBlitz Tournament Prizes: $300 b/20 players = 1st Place $150\, 2nd $100\, 3rd $50 \n\n\n\nSPECIAL BLITZ FORMAT* Week 5 = Blitz Tournament 6SS – G/5/+3 – Only for this Special Blitz Event  (6 Round Blitz\, Each player gets 5 minutes each with +3 second increment)* Blitz Rating will be used for this event; If no Blitz rating then regular rating will be used for pairing purposes only* Unrated Blitz players can also play with an active USCF membership* This event will NOT affect your Regular USCF Rating\, Only affect your BLITZ RATING ONLY* USCF Rated Games Start Promptly at 7:00 PM\, please arrive by 6:45-6:50 PM\, Blitz Finishes around 8:45 – 9:00 PM * Unrated players may join us and play fun side games anytime for Free* If 5 weeks in a month\, Week 5 = Blitz Tournament 6SS – G/5;+3 (Special Event\, Not Every Month)* Note: Our Regular Weekly Format: G/45;+10 = 1 USCF rated game per week. (4 games per month)\, $5 per week to play* The Regular G/45 tournament results from all 4 weeks submitted at end of the month as 4-Round Tournament \n\n\n\n\n\n\n\n \n\n\n\n\n\n\n\n \n\n\n\nJOIN US FOR OUR REGULAR THURSDAY NIGHTS 7:00 – 8:30 PMG/45;+10 – One Rated Game per week – $5 to play each week – 4 Week TournamentCash Prizes and Trophy to Winner of the Month\, Rated and Unrated Games each week \n\n\n\n \n\n\n\n\n\n\n\n \n\n\n\nOcean State Chess Association is the Official R.I. State Affiliate of the United States Chess Federation \n\n\n\n \n\n\n\nUpcoming Meeting Days for 2026:* Thursday\, April 2\, 9\, 16\, 23\, 30 (April 30th is Blitz Only)* Thursday\, April 30 (5th week = Blitz)* Thursday\, May 7\, 14\, 21\, 28 (Not Blitz)
URL:https://oceanstatechess.com/event/cranston-chess-club-blitz/
LOCATION:Legion Bowl & Billiards\, 661 Park Ave\, Cranston\, Rhode Island\, 02910\, United States
ATTACH;FMTTYPE=image/jpeg:https://oceanstatechess.com/wp-content/uploads/2024/11/Blitz-Chess-1.jpeg
ORGANIZER;CN="Ocean State Chess Association":MAILTO:frank@oceanstatechess.com
END:VEVENT
END:VCALENDAR