BEGIN:VCALENDAR
VERSION:2.0
PRODID:-//Ocean State Chess Association - ECPv6.15.20//NONSGML v1.0//EN
CALSCALE:GREGORIAN
METHOD:PUBLISH
X-WR-CALNAME:Ocean State Chess Association
X-ORIGINAL-URL:https://oceanstatechess.com
X-WR-CALDESC:Events for Ocean State Chess Association
REFRESH-INTERVAL;VALUE=DURATION:PT1H
X-Robots-Tag:noindex
X-PUBLISHED-TTL:PT1H
BEGIN:VTIMEZONE
TZID:America/New_York
BEGIN:DAYLIGHT
TZOFFSETFROM:-0500
TZOFFSETTO:-0400
TZNAME:EDT
DTSTART:20250309T070000
END:DAYLIGHT
BEGIN:STANDARD
TZOFFSETFROM:-0400
TZOFFSETTO:-0500
TZNAME:EST
DTSTART:20251102T060000
END:STANDARD
BEGIN:DAYLIGHT
TZOFFSETFROM:-0500
TZOFFSETTO:-0400
TZNAME:EDT
DTSTART:20260308T070000
END:DAYLIGHT
BEGIN:STANDARD
TZOFFSETFROM:-0400
TZOFFSETTO:-0500
TZNAME:EST
DTSTART:20261101T060000
END:STANDARD
BEGIN:DAYLIGHT
TZOFFSETFROM:-0500
TZOFFSETTO:-0400
TZNAME:EDT
DTSTART:20270314T070000
END:DAYLIGHT
BEGIN:STANDARD
TZOFFSETFROM:-0400
TZOFFSETTO:-0500
TZNAME:EST
DTSTART:20271107T060000
END:STANDARD
END:VTIMEZONE
BEGIN:VEVENT
DTSTART;TZID=America/New_York:20260424T000000
DTEND;TZID=America/New_York:20260425T235959
DTSTAMP:20260423T081014
CREATED:20260219T225719Z
LAST-MODIFIED:20260221T002552Z
UID:23137-1776988800-1777161599@oceanstatechess.com
SUMMARY:CSCA: 2026 Connecticut Open (New London\, CT) - $5\,000 Prizes
DESCRIPTION:Friday / Saturday\, April 24-25\, 2026 \n\n\n\nOne or Two Day Options – Only 55 Minutes from Providence \n\n\n\n2026 CONNECTICUT OPEN$5\,000+ in Guaranteed Prizes and Trophy Awards!* Amazing Collegiate Venue; DGT Broadcast; GM/IM FREE; Onsite Dining* 50 USCF Grand Prix Points; 60 CSCA Grand Prix Points* Sponsored by Connecticut State Chess Association (CSCA) \n\n\n\n\n\n\n\n  \n\n\n\nLocation: Connecticut College\, Crozier-Williams\, 270 Mohegan Ave\, New London\, CT \n\n\n\nDate/Time: Fri-Sat\, April 24-25 (2-Day) or Sat\, April 25 (1-Day)Schedules: 2-Day: 4/24: 7pm\, 4/25: 9am\, 1:30pm\, 6p; 1-Day: 4/25: 9am\, 11am\, 1:30pm\, 6pm;U700 and New England Rated: 1-Day\, 4/25 (Sat only) 9 am\, 11 am\, 1:30 pm\, 3:30 pmRegister online thru 10 AM on 4/25; Onsite ends 6 PM 4/24\, 10 AM 4/25Hotel information provided on our website: www.ChessCT.org \n\n\n\nSec/Rds/ 4 Rounds SS; Open (note[1])\, U2100\, U1700\, U1200: 2-Day: G/90+10;TC/Byes: 1-Day: 2 Rds. G/45+5\, 2 Rds. G/90+10; U700/NER: G/45+5 all; USCF-\, NE-rated.One ½ bye in Rds. 1-3; Discretionary bye for registration 1 hour ahead of day startGrand Prix: 50 Enhanced USCF Grand Prix Points; 60 Enhanced CSCA Grand Prix PointsPrizes: Open: $1\,000-600-400\, $250 to Top U2300. U2100: $700-400-300\, $200 to TopU1800. U1700: $500-300-200\, $150 to Top U1400. U1200: Trophies to Top 3\,Top U900. U700: Trophies to Top 3\, Top U400. NER: Trophies to Top 3.Trophies to Upper Section winners. Medals to others. Cash prizes via PayPal.Tie breaks: Tie break on 1st place ties: a) G/10+3 game; if drawn\, b) G/3+2 game; if drawn\, c)G/5/4+2 game. Seeding\, color by USCF tiebreaks. Does not affect money prizes.Entry Fee: Register online; $98 by 4/15\, $108 by 4/21\, $128 by 4/23; $160 thereafter.U1200: $40 less. U700/NER: $50 less. GM/IM FREE by 4/13\, then from prizes.Re-entry: Before Round 2\, $60 cash\, not from Open to Open.Member/sibling/senior/veteran/hardship discounts. Email us for discount code. \n\n\n\nNotes: [1] Open Section. Players rated under 2000 are not permitted in the Open unless they are older than 18 yearsand rated over 1800. The organizer in its sole discretion may waive this requirement. [2] Unrated. Unrated limitedto $300 in U2100 and $200 in U1700. [3] Prizes & tax requirements. All prizes are paid via PayPal. Playerswinning $600 or more in a calendar year must submit a W-9 to events.CSCA@gmail.com. [4] Refunds/Cancellation Policy: To withdraw and request a refund\, players MUST email their request to events.CSCA@gmail.com no later than Apr 22 at 11:59 PM. Refund requests not emailed or received after deadline\,will not be honored. Refunds are subject to $20 administrative fee. [5] Unauthorized solicitation is prohibited.CSCA Promotion Policy at CSCA Tournaments & Events is in effect. Please contact the CSCA for advertising andpromotional opportunities.
URL:https://oceanstatechess.com/event/2026-connecticut-open-new-london-ct-5000-prizes/
LOCATION:Connecticut College\, Crozier-Williams Building\, 270 Mohegan Ave\, New London\, Connecticut\, 06320\, United States
ATTACH;FMTTYPE=image/png:https://oceanstatechess.com/wp-content/uploads/2026/02/image-1.png
ORGANIZER;CN="Connecticut State Chess Association":MAILTO:CSCA@gmail.com
END:VEVENT
BEGIN:VEVENT
DTSTART;TZID=America/New_York:20260425T000000
DTEND;TZID=America/New_York:20260426T235959
DTSTAMP:20260423T081014
CREATED:20260418T060738Z
LAST-MODIFIED:20260418T062724Z
UID:24904-1777075200-1777247999@oceanstatechess.com
SUMMARY:MACA: 9th Mass Senior Open Chess Championship (Marlborough\, MA) - $1\,100 Prize Fund
DESCRIPTION:Sat.- Sun.\, April 25-26\, 2026 \n\n\n\n \n\n\n\nHilton Garden Inn\, Marlborough MA\n\n\n\nEvent Organizer: The Massachusetts Chess Association  Visit Organizer WebsiteEvent Location: Hilton Garden Inn Marlborough\, 170 Forest Street\, Marlborough\, MA 01752   [ Directions ]Hotel Info:20% off Best Available Rate. Call hotel directly: 508-251-6706 and press 0 to speak with front desk representative (do not press 1 for reservations)\, and say you’re playing in chess tournament.Event Date: Saturday\, April 25\, 2026 – Sunday\, April 26\, 2026Senior Requirement: Must be at Least 50 years old to play in this eventTime Control: 4SS\, 40/90\, SD/30\, d10. Rounds Time:10 am and 3 pm each day. Byes: OK all\, limit 1\, must commit before round 2\, no half point byes to players receiving full point byes. Prize Info: $1\,100 prize fund based on 30 fully paid entries ($20 off entries count 70%)\, 80% guaranteed.\, Unrated can play in either section. Can’t win more than $100 in U1810.Inquiry:  Email – info@masschess.org    603-891-2484Day of the tournament phone 603-557-1732.Registration InformationEntry Fee: $49 if mailed by 4/20 or online by 4/23\, $60 at site.$20 discount to players in U1810 sect. rated under 1200 or unrated. GMs and IMs free.Registration – Onsite: Sat. 8:30 to 9:30 a.m. Registration – Mail: Payable: MACA. Mail entry to: Bob Messenger\, 4 Hamlett Dr. Apt. 12\, Nashua NH 03062USCF Membership Requirement: US Chess membership required. (MACA) membership required MA residents ($12/year).Sections InformationTournament Sections & Prizes: Open $250-125\, top U2210 $100\, top U2010 $100.Under 1810 $200-125\, top U1610 $100\, top U1410 $100.Tournament Rules and Other InformationOpen to players born before 4/26/1976. Must be at Least 50 Years Old to Play in this event. Register online hereWe are using NAchesshub registration.IMPORTANT: Be sure to enter your birthdate in your NAchesshub player profile in order to register.Also\, when registering\, please use a gmail account. You can see everyone who has already registered for this tournament by clicking on Roster button. The top Massachusetts player in the Open Section qualifies for the John T. Irwin National Tournament of Senior Champions. On site payment is by cash or check. No credit cards. Foreign player ratings: see foreignratings.com.
URL:https://oceanstatechess.com/event/mass-senior-open-chess-championship/
LOCATION:Hilton Garden Inn Marlborough\, 170 Forest Street\,   \, Massachusetts\, 01752\, United States
ATTACH;FMTTYPE=image/png:https://oceanstatechess.com/wp-content/uploads/2026/04/image.png
ORGANIZER;CN="Massachusetts Chess Association":MAILTO:info@masschess.org
END:VEVENT
END:VCALENDAR