BEGIN:VCALENDAR
VERSION:2.0
PRODID:-//Ocean State Chess Association - ECPv6.15.20//NONSGML v1.0//EN
CALSCALE:GREGORIAN
METHOD:PUBLISH
X-WR-CALNAME:Ocean State Chess Association
X-ORIGINAL-URL:https://oceanstatechess.com
X-WR-CALDESC:Events for Ocean State Chess Association
REFRESH-INTERVAL;VALUE=DURATION:PT1H
X-Robots-Tag:noindex
X-PUBLISHED-TTL:PT1H
BEGIN:VTIMEZONE
TZID:America/New_York
BEGIN:DAYLIGHT
TZOFFSETFROM:-0500
TZOFFSETTO:-0400
TZNAME:EDT
DTSTART:20250309T070000
END:DAYLIGHT
BEGIN:STANDARD
TZOFFSETFROM:-0400
TZOFFSETTO:-0500
TZNAME:EST
DTSTART:20251102T060000
END:STANDARD
BEGIN:DAYLIGHT
TZOFFSETFROM:-0500
TZOFFSETTO:-0400
TZNAME:EDT
DTSTART:20260308T070000
END:DAYLIGHT
BEGIN:STANDARD
TZOFFSETFROM:-0400
TZOFFSETTO:-0500
TZNAME:EST
DTSTART:20261101T060000
END:STANDARD
BEGIN:DAYLIGHT
TZOFFSETFROM:-0500
TZOFFSETTO:-0400
TZNAME:EDT
DTSTART:20270314T070000
END:DAYLIGHT
BEGIN:STANDARD
TZOFFSETFROM:-0400
TZOFFSETTO:-0500
TZNAME:EST
DTSTART:20271107T060000
END:STANDARD
END:VTIMEZONE
BEGIN:VEVENT
DTSTART;TZID=America/New_York:20260423T120000
DTEND;TZID=America/New_York:20260423T160000
DTSTAMP:20260423T013030
CREATED:20250807T200620Z
LAST-MODIFIED:20260416T173125Z
UID:19494-1776945600-1776960000@oceanstatechess.com
SUMMARY:OSCA Collaboration: Cranston Senior Center Chess Club (Cranston\, RI) - on Thursday's
DESCRIPTION:Senior Chess Club meets every week on Thursday’s 12:00 – 4:00 PM \n\n\n\nAll Seniors are invited – Must be age 50+ or older to play \n\n\n\nFREE – Fun play – Please join the seniors for chess !!! \n\n\n\n \n\n\n\nChess Players at the Cranston Senior Center\n\n\n\n \n\n\n\n \n\n\n\nCranston Senior Center – 1070 Cranston Street\, Cranston\, RI 02920\n\n\n\n   \n\n\n\n \n\n\n\nFor more info contact: Sky Marcos\, Director of Activities Phone: (401) 780-6216Email: smarcos@cranstonri.org  \n\n\n\n    \n\n\n\nCranston Senior Chess Club is supported by the Cranston Senior Center & the Ocean State Chess Association \n\n\n\n\n\n\n\n \n\n\n\n\n\n\n\n Ocean State Chess Association (OSCA) is the Official R.I. State Affiliate of the United States Chess Federation
URL:https://oceanstatechess.com/event/cranston-senior-chess/
LOCATION:Cranston Senior Center\, 1070 Cranston St Cranston\, RI 02920\, Cranston\, Rhode Island\, 02920\, United States
ATTACH;FMTTYPE=image/png:https://oceanstatechess.com/wp-content/uploads/2025/08/image.png
ORGANIZER;CN="Ocean State Chess Association":MAILTO:frank@oceanstatechess.com
END:VEVENT
BEGIN:VEVENT
DTSTART;TZID=America/New_York:20260423T190000
DTEND;TZID=America/New_York:20260423T204500
DTSTAMP:20260423T013030
CREATED:20230829T031329Z
LAST-MODIFIED:20260417T185304Z
UID:5748-1776970800-1776977100@oceanstatechess.com
SUMMARY:OSCA Weekly - Cranston Chess Club (Cranston\, R.I.) @ Legion Bowl
DESCRIPTION:BOTH UNRATED & USCF RATED SECTIONS EVERY WEEK ON THURSDAY \n\n\n\nEVERY THURSDAY NIGHT\, 7:00 – 8:45 PM@ Legion Bowl – 661 Park Ave\, Cranston\, RI 02910 \n\n\n\n\n\n\n\nFORMAT* G/45;d10 = 1 game per week. (4 Games per month)\, only $5 per week to play(Each player gets 45 minutes with a 10 second delay)* Weekly G/45 tournament results from all 4 weeks submitted at end of the month as a 4-Round Tournament* Rated Games Start Promptly at 7:00 PM\, please arrive by 6:45 – 6:50 PM * Unrated players may join us and play fun side games anytime for Free* If 5 weeks in a month\, Week 5 – Blitz Tournament 6SS – G/5+3 (Special Event\, Not Every Month) \n\n\n\n \n\n\n\nUpcoming Meeting Days:* Thursday\, April 2\, 9 16\, 23\, 30 (April 30th Blitz Event)* Thursday\, April 30 (5th Week = Blitz)* Thursday\, May 7\, 14\, 21\, 28* Thursday\, June 4\, 11\, 18\, 25 \n\n\n\n \n\n\n\n________________________________________________________________________ \n\n\n\n\n* USCF RATED G/45;d10 – 45 minutes each with 10 sec delay – 1 game per week = cost $5 per week\n\n\n\n* FREE (UNRATED) Fun Chess Games if players are available – New members are always welcome\, Please Join Us!\n\n\n\n* Rated Weekly Games will start @ 7:00 PM\, Check-in by 6:50 pm\n\n\n\n* PRIZES (RATED SECTION) b/10 players each week = 1st Place $80 & 2nd Place $40\, and Biggest Upset Game $20\n\n\n\n* New/Renewal USCF Memberships available (Optional)\n\n\n\n* Unrated Show up anytime to play chess\, and stay as short or long as you like. Spectators can come to watch\n\n\n\n* Chess Sets & Clocks will be provided\, but please bring a clock if you have one\n\n\n\n* The Pub on Park connected to club playing area\, a full food and beverage menu is available\n\n\n\n* Duckpin Bowling\, Arcade Games\, & Free Pool Tables available too (See “Legion Bowl” link below)\n\n\n\n* Cranston Club is Organized & Directed by Board members of the Ocean State Chess Association (OSCA)\n\n\n\nPresident\, Cranston Chess ClubFrank DelBonis (Board of Directors\, Ocean State Chess Association)Email: frank@oceanstatechess.com\n\n\n\n\n\n\n\n\nCranston Chess Club is supported by the Ocean State Chess Association (OSCA)The Official R.I. State Affiliate of the United States Chess Federation \n\n\n\n \n\n\n\nCranston Chess Club @ Legion Bowl\n\n\n\n \n\n\n\n\n\n\n\n \n\n\n\n \n\n\n\nNEW – CRANSTON CHESS CLUB FOR KIDS & TEENS – 7:00 – 8:30 PM* Students Grades 5-12 can participate\, $5 per week to play * 1st Place\, 2nd Place\, 3rd Place trophies for best scores after 4 weeks* Parent must be present for Elementary & Middle School kids* Both USCF Rated G/45;d10 and Unrated Games (Fun) for everyone* For more information text OSCA President Frank DelBonis @ (401) 212-1335 \n\n\n\n \n\n\n\n\n\n\n\n \n\n\n\n\n\n\n\n“The Pub on Park” connected to Chess Club at Legion Bowl
URL:https://oceanstatechess.com/event/cranston-chess-club-on-thursdays/
LOCATION:Legion Bowl & Billiards\, 661 Park Ave\, Cranston\, Rhode Island\, 02910\, United States
ATTACH;FMTTYPE=image/png:https://oceanstatechess.com/wp-content/uploads/2023/08/CCC-LOGO-1.png
END:VEVENT
END:VCALENDAR