BEGIN:VCALENDAR
VERSION:2.0
PRODID:-//Ocean State Chess Association - ECPv6.15.20//NONSGML v1.0//EN
CALSCALE:GREGORIAN
METHOD:PUBLISH
X-WR-CALNAME:Ocean State Chess Association
X-ORIGINAL-URL:https://oceanstatechess.com
X-WR-CALDESC:Events for Ocean State Chess Association
REFRESH-INTERVAL;VALUE=DURATION:PT1H
X-Robots-Tag:noindex
X-PUBLISHED-TTL:PT1H
BEGIN:VTIMEZONE
TZID:America/New_York
BEGIN:DAYLIGHT
TZOFFSETFROM:-0500
TZOFFSETTO:-0400
TZNAME:EDT
DTSTART:20250309T070000
END:DAYLIGHT
BEGIN:STANDARD
TZOFFSETFROM:-0400
TZOFFSETTO:-0500
TZNAME:EST
DTSTART:20251102T060000
END:STANDARD
BEGIN:DAYLIGHT
TZOFFSETFROM:-0500
TZOFFSETTO:-0400
TZNAME:EDT
DTSTART:20260308T070000
END:DAYLIGHT
BEGIN:STANDARD
TZOFFSETFROM:-0400
TZOFFSETTO:-0500
TZNAME:EST
DTSTART:20261101T060000
END:STANDARD
BEGIN:DAYLIGHT
TZOFFSETFROM:-0500
TZOFFSETTO:-0400
TZNAME:EDT
DTSTART:20270314T070000
END:DAYLIGHT
BEGIN:STANDARD
TZOFFSETFROM:-0400
TZOFFSETTO:-0500
TZNAME:EST
DTSTART:20271107T060000
END:STANDARD
END:VTIMEZONE
BEGIN:VEVENT
DTSTART;TZID=America/New_York:20260421T143000
DTEND;TZID=America/New_York:20260421T153000
DTSTAMP:20260421T061916
CREATED:20260117T061647Z
LAST-MODIFIED:20260402T234335Z
UID:22541-1776781800-1776785400@oceanstatechess.com
SUMMARY:Newport Library Chess Club (Newport\, RI) - 1st & 3rd Tuesday's
DESCRIPTION:1st & 3rd Tuesday (Bi-Monthly) @ 2:30 – 3:30 PMFor those just starting or the more advanced chess players. No registration required\, just drop in. Looking forward to seeing you! \n\n\n\nSee Newport Library Chess Club link: CLICK HERE \n\n\n\nNewport Public Library\, Newport Rhode Island\n\n\n\n \n\n\n\nUPCOMING MEETING DAYS(1st & 3rd TUESDAY’S)Tuesday\, April 7\, 2026Tuesday\, April 21\, 2026Tuesday\, May 5\, 2026Tuesday\, May 19\, 2026Tuesday\, June 2\, 2026Tuesday\, June 16\, 2026Tuesday\, July 7\, 2026Tuesday\, July 21\, 2026Tuesday\, August 4\, 2026Tuesday\, August 18\, 2026 \n\n\n\nFor more information contact: Allyson Neurohr\, Email: aneurohr@newportlibraryri.org
URL:https://oceanstatechess.com/event/newport-library-chess-club/
LOCATION:Newport Public Library\, 300 Spring Street\, Newport\, Rhode Island\, 02840\, United States
ATTACH;FMTTYPE=image/png:https://oceanstatechess.com/wp-content/uploads/2026/01/image-5.png
END:VEVENT
END:VCALENDAR