BEGIN:VCALENDAR
VERSION:2.0
PRODID:-//Ocean State Chess Association - ECPv6.15.20//NONSGML v1.0//EN
CALSCALE:GREGORIAN
METHOD:PUBLISH
X-ORIGINAL-URL:https://oceanstatechess.com
X-WR-CALDESC:Events for Ocean State Chess Association
REFRESH-INTERVAL;VALUE=DURATION:PT1H
X-Robots-Tag:noindex
X-PUBLISHED-TTL:PT1H
BEGIN:VTIMEZONE
TZID:America/New_York
BEGIN:DAYLIGHT
TZOFFSETFROM:-0500
TZOFFSETTO:-0400
TZNAME:EDT
DTSTART:20250309T070000
END:DAYLIGHT
BEGIN:STANDARD
TZOFFSETFROM:-0400
TZOFFSETTO:-0500
TZNAME:EST
DTSTART:20251102T060000
END:STANDARD
BEGIN:DAYLIGHT
TZOFFSETFROM:-0500
TZOFFSETTO:-0400
TZNAME:EDT
DTSTART:20260308T070000
END:DAYLIGHT
BEGIN:STANDARD
TZOFFSETFROM:-0400
TZOFFSETTO:-0500
TZNAME:EST
DTSTART:20261101T060000
END:STANDARD
BEGIN:DAYLIGHT
TZOFFSETFROM:-0500
TZOFFSETTO:-0400
TZNAME:EDT
DTSTART:20270314T070000
END:DAYLIGHT
BEGIN:STANDARD
TZOFFSETFROM:-0400
TZOFFSETTO:-0500
TZNAME:EST
DTSTART:20271107T060000
END:STANDARD
END:VTIMEZONE
BEGIN:VEVENT
DTSTART;TZID=America/New_York:20260419T000000
DTEND;TZID=America/New_York:20260419T235959
DTSTAMP:20260423T081040
CREATED:20260228T055754Z
LAST-MODIFIED:20260406T211013Z
UID:23585-1776556800-1776643199@oceanstatechess.com
SUMMARY:MACA: Boston Queens Series - Event 6 (Boston\, MA)
DESCRIPTION:Sunday\, April 19\, 2026 \n\n\n\nOrganized by the MASSACHUSETTS CHESS ASSOCIATION (MACA) Visit Organizer Website Boston Queens Series – Event 6 – International Women’s DayAll girls and women welcome!Location: Boylston Chess Club Boston 35 Kingston St. Suite 1\, Boston\, MA 02111   Event Date: Sunday\, April 19\, 2026This event is part of the Boston Queens Series.Click here to see the series flyerExtra prizes will be awarded for most points earned over all 6 events(see Other Information below for details).Time Control: 6 rounds Swiss System (accelerated) G/10 + 5 incrementRounds: Time: 2:30 pm. Seminar by Canadian WCM LIZA ORLOVA3:15 pm FREE pizza dinner; 3:45 rapid TournamentByes: Up to 2 half point byes. For a last round bye\, must commit before start of Rd 2 Prize Info: $100 – $75\, Top U1500 $50\, Top U1000 $25.   Medals for the top 3 girls 11 years old and younger. Medal and a book prize for the top 1 unrated player. Chess accessories for the first 15 to registerInquiry: kateryna@masschess.org   Event Webpage: REGISTER HERERegistration InformationEntry Fee: $20 Free entry to GMs\, IMs\, WGMs\, WIMs\, and unrated (players that have none of the following: USCF regular/rapid/blitz rating\, FIDE regular/rapid/blitz rating)Registration – Onsite: 2:00 pm – 3:30 pm cash or checks onlyMembership Requirement: No requirements. However\, USCF and MACA sponsor and fund the event\, and your membership would help them provide more programs like this in the future.NEXT EVENT: SUNDAY\, APRIL 19\, 2026Tournament Sections: Open SectionTournament Rules and Other InformationRegister here Chess sets and clocks are provided. Event is open for out-of-state players. Each event is also part of Boston Queens Series\, and places 1 – 10 earn series points: 10 points for 1st place\, 9 points for 2nd\, 8 points for 3rd\, and so on\, to 1 point for 10th. Those who score the most points throughout all 6 events will get prizes. See the current Series Points Standings.Event Organizer: The Massachusetts Chess Association  \n\n\n2026-Queens-Blitz-Series-no6
URL:https://oceanstatechess.com/event/boston-queens-series/
LOCATION:Boylston Chess Club Boston\, 35 Kingston St. Suite 1\, Boston\, Massachusetts\, 02111\, United States
ATTACH;FMTTYPE=application/pdf:https://oceanstatechess.com/wp-content/uploads/2026/02/2026-Queens-Blitz-Series-no6-1.pdf
ORGANIZER;CN="Massachusetts Chess Association":MAILTO:info@masschess.org
END:VEVENT
END:VCALENDAR