BEGIN:VCALENDAR
VERSION:2.0
PRODID:-//Ocean State Chess Association - ECPv6.15.20//NONSGML v1.0//EN
CALSCALE:GREGORIAN
METHOD:PUBLISH
X-ORIGINAL-URL:https://oceanstatechess.com
X-WR-CALDESC:Events for Ocean State Chess Association
REFRESH-INTERVAL;VALUE=DURATION:PT1H
X-Robots-Tag:noindex
X-PUBLISHED-TTL:PT1H
BEGIN:VTIMEZONE
TZID:America/New_York
BEGIN:DAYLIGHT
TZOFFSETFROM:-0500
TZOFFSETTO:-0400
TZNAME:EDT
DTSTART:20250309T070000
END:DAYLIGHT
BEGIN:STANDARD
TZOFFSETFROM:-0400
TZOFFSETTO:-0500
TZNAME:EST
DTSTART:20251102T060000
END:STANDARD
BEGIN:DAYLIGHT
TZOFFSETFROM:-0500
TZOFFSETTO:-0400
TZNAME:EDT
DTSTART:20260308T070000
END:DAYLIGHT
BEGIN:STANDARD
TZOFFSETFROM:-0400
TZOFFSETTO:-0500
TZNAME:EST
DTSTART:20261101T060000
END:STANDARD
BEGIN:DAYLIGHT
TZOFFSETFROM:-0500
TZOFFSETTO:-0400
TZNAME:EDT
DTSTART:20270314T070000
END:DAYLIGHT
BEGIN:STANDARD
TZOFFSETFROM:-0400
TZOFFSETTO:-0500
TZNAME:EST
DTSTART:20271107T060000
END:STANDARD
END:VTIMEZONE
BEGIN:VEVENT
DTSTART;TZID=America/New_York:20260405T000000
DTEND;TZID=America/New_York:20260405T235959
DTSTAMP:20260423T062150
CREATED:20260322T231113Z
LAST-MODIFIED:20260402T042355Z
UID:24224-1775347200-1775433599@oceanstatechess.com
SUMMARY:CSCA: Connecticut Chess Festival - Senior - Women's - Collegiate - Medior - Junior Championships (Hartford\, CT) - $6\,000 Prizes
DESCRIPTION:Friday\, Saturday\, Sunday\, April 3-5\, 2026 (3 DAYS) \n\n\n\n \n\n\n\nFRIDAY\, APRIL 3\, 2026 – Irina Krush Lecture\, Simul\, Over the Board Arena TournamentLecture\, Simul & Arena w/ GM Irina Krush\, Blitz and Blitz960 Swiss TD Class/LectureRapid and Rapid960 Swiss\, 2-Player Alternating Team Swiss\, Connecticut Game Zero SwissLink: CLICK HERE \n\n\n\nSATURDAY\, APRIL 4\, 2026 – Connecticut Speed Championships RAPID (G/10)\, BLITZ (G/3)\, & BULLET (G/1) CHESS – ALL IN ONE EVENT$2\,500 Guaranteed Prizes and Trophy & Plaque Awards!Link: CLICK HERE \n\n\n\nSUNDAY\, APRIL 5\, 2026 – Senior\, Women\, & Collegiate ChampionshipsConnecticut Senior Championships\, $600 in Guaranteed Prizes!!! Other Honors and Awards! Link: CLICK HEREConnecticut Women’s Championship\, $500 in Guaranteed Prizes!!! Other Honors and Awards! Link: CLICK HERENew England Collegiate Championships\, $600 in Guaranteed Prizes!!! Category and Team Awards! Link: CLICK HERESUNDAY\, APRIL 5\, 2026 – Connecticut Medior Championships $900 in Guaranteed Prizes!!! Other Honors and Awards! Link: CLICK HEREU50 (Age 40-49)\, U40 (Age 30-39)\, U30 (Age 19-29); 4 Rounds SS\, G/45+10;TC/Byes: One ½ point bye for Rds 1-3; 0 pt byes any round. USCF- and NE-rated (“Medior Player”: Any individual age 19-49 years\, not attending college.)Prizes: $200-$100 and Trophy to Top 3 in each section. Champion trophy/plaque to Top Connecticut player in each section.G/5/4+2 game. Seeding\, color by USCF tiebreaks. Does not affect money prizes.Entry Fee: Register online: $65 by 3/31; $85 by 4/2; $105 by 4/4; $125 onsite by 12 PM.GMs/IMs FREE by 3/31\, then from prizes. Standard CSCA discounts available \n\n\n\n \n\n\n\nSUNDAY\, APRIL 5\, 2026 – Connecticut Junior Championships Five State Titles via Age Group! Trophy & Plaque Prizes!$500 in CSCA Event Credit Prizes! Link: CLICK HERESec/Rds/ U19 (Age 16-18)\, U16 (13-15)\, U13 (10-12)\, U10 (7-9)\, U7 (Under 7);4 Rounds SS\, G/45+10; One 1⁄2 point bye for Rounds 1-3; 0 pt. byes any round. USCF-and NE-rated (“Junior Player”: Any individual aged under 19.) Prizes: Trophy to Top 3 and $100 ($50-30-20) in CSCA Event Credit per section.Champion trophy/plaque to Top Connecticut player in each section. (Event creditdistributed like cash prizes.) Exceptional Collegiate Venue; Live DGT Broadcast; Onsite Dining \n\n\n\n \n\n\n\nAthletic Center\, Trinity College\, CT\n\n\n\n \n\n\n\nGO TO CSCA WEBSITE FOR MORE DETAILS: https://chessct.org/csca/cscamain.php \n\n\n\n \n\n\n\n\n\n\n\nConnecticut State Chess Association (CSCA) is the official state chapter affiliate of the U.S. Chess Federation
URL:https://oceanstatechess.com/event/csca-connecticut-chess-festival/
LOCATION:Trinity College\, Athletic Center\, 300 Summit Street\, Hartford\, Connecticut\, 06106\, United States
ATTACH;FMTTYPE=image/png:https://oceanstatechess.com/wp-content/uploads/2026/03/image-3.png
ORGANIZER;CN="Connecticut State Chess Association":MAILTO:CSCA@gmail.com
END:VEVENT
END:VCALENDAR