BEGIN:VCALENDAR
VERSION:2.0
PRODID:-//Ocean State Chess Association - ECPv6.15.20//NONSGML v1.0//EN
CALSCALE:GREGORIAN
METHOD:PUBLISH
X-ORIGINAL-URL:https://oceanstatechess.com
X-WR-CALDESC:Events for Ocean State Chess Association
REFRESH-INTERVAL;VALUE=DURATION:PT1H
X-Robots-Tag:noindex
X-PUBLISHED-TTL:PT1H
BEGIN:VTIMEZONE
TZID:America/New_York
BEGIN:DAYLIGHT
TZOFFSETFROM:-0500
TZOFFSETTO:-0400
TZNAME:EDT
DTSTART:20250309T070000
END:DAYLIGHT
BEGIN:STANDARD
TZOFFSETFROM:-0400
TZOFFSETTO:-0500
TZNAME:EST
DTSTART:20251102T060000
END:STANDARD
BEGIN:DAYLIGHT
TZOFFSETFROM:-0500
TZOFFSETTO:-0400
TZNAME:EDT
DTSTART:20260308T070000
END:DAYLIGHT
BEGIN:STANDARD
TZOFFSETFROM:-0400
TZOFFSETTO:-0500
TZNAME:EST
DTSTART:20261101T060000
END:STANDARD
BEGIN:DAYLIGHT
TZOFFSETFROM:-0500
TZOFFSETTO:-0400
TZNAME:EDT
DTSTART:20270314T070000
END:DAYLIGHT
BEGIN:STANDARD
TZOFFSETFROM:-0400
TZOFFSETTO:-0500
TZNAME:EST
DTSTART:20271107T060000
END:STANDARD
END:VTIMEZONE
BEGIN:VEVENT
DTSTART;TZID=America/New_York:20260321T093000
DTEND;TZID=America/New_York:20260321T133000
DTSTAMP:20260423T062948
CREATED:20250107T233330Z
LAST-MODIFIED:20260226T011039Z
UID:14986-1774085400-1774099800@oceanstatechess.com
SUMMARY:SENECA: 1st Cumberland Spring Chess Fest (Cumberland\, RI)
DESCRIPTION:SENECA Events are Not Affiliated with the Ocean State Chess Association (USCF R.I. State Affiliate) \n\n\n\n \n\n\n\nThis is an open scholastic chess tournament for children in grades K-12. \n\n\n\n \n\n\n\nBlackstone Valley Prep School\n\n\n\nBlackstone Valley Prep School291 Broad St\, Cumberland\, RI 02864 \n\n\n\nTIME CONTROL: 4SS\, G/25 d/5. \n\n\n\nSECTIONS: Two USCF-rated sections and two unrated sections* \n\n\n\n–U1400 (rated section: USCF membership required**) \n\n\n\n–UNDER 700 (rated section: USCF membership required**) \n\n\n\n–UNRATED (no membership required) \n\n\n\n–NOVICE (no membership required) \n\n\n\n* If you have any questions about which section is right for your child\, please email Eduardo at epaguag@gmail.com. \n\n\n\n** For more information about USCF membership\, go to www.uschess.org or call 800-903-8723. NOTE: USCF membership must be purchased or renewed by March 19\, 2026\, if you plan on playing in a rated section. \n\n\n\nTrophies will be awarded to the top three players in each section. \n\n\n\nSections may be combined or split at the discretion of the tournament director. This is a 4-round tournament\, but a small section may have to play 3. Full-point byes may apply in sections with an odd number of players\, and ½ point byes are available in any round pending early notification to the tournament director. Please bring a chess clock if you own one. \n\n\n\nADVANCE REGISTRATION: Online entry fee $25. ONLINE ENTRY ONLY. Registration closes on March 19\, 2026\, at 11:59 PM or when we hit the capacity for the venue. Scholarships may be available if needed on a case-by-case basis. \n\n\n\nDOOR REGISTRATION: THERE IS NO DOOR REGISTRATION FOR THIS EVENT. ADVANCE REGISTRATION ONLY.Round 1 starts at 9:30AM. Others on completion of each round. Please arrive and check in between 9AM and 9:20AM. Failure to check in by 9:20AM may result in receiving a bye for round one. Unrated sections may finish around 12PM. Rated sections may finish around 1PM-1:30PM. \n\n\n\nRound 1 starts at 9:30 AM. Others on completion of each round. Please arrive and check in at 9:00 AM. Failure to check in by 9:20 AM may result in receiving a bye for round one. Unrated sections may finish around noon. Rated sections may finish around 1PM. \n\n\n\nFOR ADDITIONAL INFORMATION contact Bob Salvas at (401) 359-1602 or email: monasterychess@gmail.com. \n\n\n\nFor information on all of our scholastic events\, see http://senecachess.org/.
URL:https://oceanstatechess.com/event/seneca-chess-fest/
LOCATION:Blackstone Valley Prep School\, 291 Broad Street\, Cumberland\, Rhode Island\, 02864\, United States
ATTACH;FMTTYPE=image/png:https://oceanstatechess.com/wp-content/uploads/2025/02/SENECA-Logo.png
ORGANIZER;CN="Southeast New England Chess Association (SENECA)":MAILTO:monasterychess@gmail.com
END:VEVENT
END:VCALENDAR