BEGIN:VCALENDAR
VERSION:2.0
PRODID:-//Ocean State Chess Association - ECPv6.15.20//NONSGML v1.0//EN
CALSCALE:GREGORIAN
METHOD:PUBLISH
X-ORIGINAL-URL:https://oceanstatechess.com
X-WR-CALDESC:Events for Ocean State Chess Association
REFRESH-INTERVAL;VALUE=DURATION:PT1H
X-Robots-Tag:noindex
X-PUBLISHED-TTL:PT1H
BEGIN:VTIMEZONE
TZID:America/New_York
BEGIN:DAYLIGHT
TZOFFSETFROM:-0500
TZOFFSETTO:-0400
TZNAME:EDT
DTSTART:20250309T070000
END:DAYLIGHT
BEGIN:STANDARD
TZOFFSETFROM:-0400
TZOFFSETTO:-0500
TZNAME:EST
DTSTART:20251102T060000
END:STANDARD
BEGIN:DAYLIGHT
TZOFFSETFROM:-0500
TZOFFSETTO:-0400
TZNAME:EDT
DTSTART:20260308T070000
END:DAYLIGHT
BEGIN:STANDARD
TZOFFSETFROM:-0400
TZOFFSETTO:-0500
TZNAME:EST
DTSTART:20261101T060000
END:STANDARD
BEGIN:DAYLIGHT
TZOFFSETFROM:-0500
TZOFFSETTO:-0400
TZNAME:EDT
DTSTART:20270314T070000
END:DAYLIGHT
BEGIN:STANDARD
TZOFFSETFROM:-0400
TZOFFSETTO:-0500
TZNAME:EST
DTSTART:20271107T060000
END:STANDARD
END:VTIMEZONE
BEGIN:VEVENT
DTSTART;TZID=America/New_York:20260301T000000
DTEND;TZID=America/New_York:20260307T235959
DTSTAMP:20260421T062041
CREATED:20250812T153742Z
LAST-MODIFIED:20260308T192800Z
UID:19560-1772323200-1772927999@oceanstatechess.com
SUMMARY:World Chess Festival (King of Prussia\, PA)
DESCRIPTION:See all information at this Link:https://www.hanleychessacademy.com/2026WCFKingPrussia.html \n\n\n\n2026 World Chess Festival – King of PrussiaApril 3-5\, 2026 \n\n\n\n\n\n\n\nDesmond Malvern HotelOne Liberty BlvdMalvern\, PA 19355(610) 296-9800 \n\n\n\nThere are tournaments for ALL experience/skill levels. \n\n\n\nOur solutions: The youth player can play in the Non-Rated/Capture the King tournaments on Friday and Saturday (Beginner Tournaments) and then join our Under 750 USCF rated scholastic on Sunday for their first USCF tournament. For the adult\, that person can join our Friday Adult Swiss as well as our Friday Night Adult Blitz tournament. \n\n\n\n \n\n\n\n\nCLICK BELOW FOR MORE INFORMATON ABOUT THIS EVENT:   \n\n\n\nWorld Chess Festival – Youth Championship\n\n\n\nUSCF Top 100 Rating List Scholastic Tournament\n\n\n\nFriday Warm-Up Scholastic\n\n\n\nFriday & Saturday Non-Rated/Capture the King\n\n\n\nFriday Adult Swiss\n\n\n\nYouth Blitz Tournament\n\n\n\nAdult Blitz Tournament\n\n\n\nPuzzle Solving Tournament\n\n\n\nPlaying Rules\n\n\n\nRegistration\n\n\n\nHotel Reservations\n\n\n\nFrequently Asked Questions\n\n\n\nSchedule of Events\n\n\n\nAdvanced Entries\n\n\n\nInformation\, Policies\, and Contact Us\n\n\n\n\n \n\n\n\nDesmond Malvern Hotel – Malvern\, PA
URL:https://oceanstatechess.com/event/world-chess-festival/
LOCATION:Desmond Malvern Hotel\, One Liberty Blvd\, Malvern\, Pennsylvania\, (610) 296-9800\, United States
ATTACH;FMTTYPE=image/png:https://oceanstatechess.com/wp-content/uploads/2025/08/image-3.png
ORGANIZER;CN="Hanley Chess Academy":MAILTO:hanleychessacademy@gmail.com
END:VEVENT
END:VCALENDAR