BEGIN:VCALENDAR
VERSION:2.0
PRODID:-//Ocean State Chess Association - ECPv6.15.20//NONSGML v1.0//EN
CALSCALE:GREGORIAN
METHOD:PUBLISH
X-WR-CALNAME:Ocean State Chess Association
X-ORIGINAL-URL:https://oceanstatechess.com
X-WR-CALDESC:Events for Ocean State Chess Association
REFRESH-INTERVAL;VALUE=DURATION:PT1H
X-Robots-Tag:noindex
X-PUBLISHED-TTL:PT1H
BEGIN:VTIMEZONE
TZID:America/New_York
BEGIN:DAYLIGHT
TZOFFSETFROM:-0500
TZOFFSETTO:-0400
TZNAME:EDT
DTSTART:20230312T070000
END:DAYLIGHT
BEGIN:STANDARD
TZOFFSETFROM:-0400
TZOFFSETTO:-0500
TZNAME:EST
DTSTART:20231105T060000
END:STANDARD
BEGIN:DAYLIGHT
TZOFFSETFROM:-0500
TZOFFSETTO:-0400
TZNAME:EDT
DTSTART:20240310T070000
END:DAYLIGHT
BEGIN:STANDARD
TZOFFSETFROM:-0400
TZOFFSETTO:-0500
TZNAME:EST
DTSTART:20241103T060000
END:STANDARD
BEGIN:DAYLIGHT
TZOFFSETFROM:-0500
TZOFFSETTO:-0400
TZNAME:EDT
DTSTART:20250309T070000
END:DAYLIGHT
BEGIN:STANDARD
TZOFFSETFROM:-0400
TZOFFSETTO:-0500
TZNAME:EST
DTSTART:20251102T060000
END:STANDARD
END:VTIMEZONE
BEGIN:VEVENT
DTSTART;TZID=America/New_York:20241025T000000
DTEND;TZID=America/New_York:20241027T235959
DTSTAMP:20260421T120926
CREATED:20240716T132320Z
LAST-MODIFIED:20240829T073048Z
UID:11631-1729814400-1730073599@oceanstatechess.com
SUMMARY:NNECA 1st Origami Open - Grand Prix (Westford\, MA) - $5\,500 Projected\, $3\,300 Guaranteed Prizes
DESCRIPTION:Grand Prix\, Enhanced Grand Prix\, Junior Grand Prix $5500 projected prizes\, $3300 (60%) Guaranteed! Limited to the first 80 players.  \n\n\n\nFRIDAY\, OCTOBER 25 – SUNDAY\, OCTOBER 27\, 2024 \n\n\n\n\n\n\n\n \n\n\n\nLocation: Westford Regency Inn & Conference Center219 Littleton RoadWestford\, MA 01886. \n\n\n\n6 rounds Swiss System\, \n\n\n\nFormat: G/60+30 Friday and Saturday (2-day Rounds 1-2 G/30+15)\, G/90+30 Sunday \n\n\n\nRounds: 3-day option: Friday: 7pm Saturday: 10am-2pm-6pm Sunday: 10am-3pm2-day option: Saturday: 10am-12pm\, merge in Round 3. \n\n\n\nSections & Prizes:Washi (1700+ USCF): $2675 based on 25 entries: $1200-600\, U2325: $450\, U2125: $425Tant (Under 1925): $1750 based on 25 entries: $720-360\, U1725: $340\, U1525: $330Kami (Under 1325): $1075 based on 25 entries: $450-225\, U1125: $210\, U975/Unrated: $190 \n\n\n\nPrizes will be raised/decreased in proportion to the amount of entries\, with 60% Guaranteed. Unrated players are only eligible for the U975/Unrated prize in the Under 1325 section. \n\n\n\nEntry Fee: $125 for Washi\, $90 for Tant\, $65 for Kami. EF $10 more after September 28th and $20 after October 24th and on site. \n\n\n\nGrand Prix: This tournament is a 4x multiplier in the New England Grand Prix\, a new circuit of local tournaments that reward players who play and finish more events. To view the details\, prizes\, standings\, and upcoming Grand Prix Events\, visit the New England Chess Association website here: https://newenglandchess.org/ \n\n\n\nByes: 3 half point byes allowed\, must commit before the start of Round 2. \n\n\n\nRegistration: Online advance entry available at onlineregistration.cc until 9 am on 10/26. \n\n\n\nOnsite Registration: Friday 10/25 6-6:45 pm Saturday 10/26: 9-9:45 a.m. Bring sets and clocks\, limited provided. \n\n\n\nRe-entry: $70 for Washi\, $50 for Tant\, $40 for Kami. Re-entries count as 50% entries for prize purposes. \n\n\n\nHotel: $139\, booking link here: https://us01.iqwebbook.com/WRICCMA543/~/?coupon=CAT Be sure to reserve before September 25th to get the guaranteed rate! \n\n\n\nBlitz Side Event: The Origami Blitz will take place Saturday at the conclusion of Round 4. The event is free for players ($10 for others) and has $100 in prizes: $50 for first and two class prizes of $30 and $20. Higher of blitz or USCF regular rating used for pairings and prizes. \n\n\n\n \n\n\n\n\n\nSEE USCF TLA: https://new.uschess.org/1st-origami-open \n\n\n\n(CLICK HERE):  REGISTRATION 1st ORIGAMI OPEN
URL:https://oceanstatechess.com/event/origami-open/
LOCATION:Westford Regency Inn & Conference Center\, 219 Littleton Road\, Westford\, Massachusetts\, 01886
ATTACH;FMTTYPE=image/png:https://oceanstatechess.com/wp-content/uploads/2024/07/North-New-England-Chess-Association.png
ORGANIZER;CN="Northern New England Chess Association":MAILTO:josephtruelson@gmail.com
END:VEVENT
END:VCALENDAR