BEGIN:VCALENDAR
VERSION:2.0
PRODID:-//Ocean State Chess Association - ECPv6.15.20//NONSGML v1.0//EN
CALSCALE:GREGORIAN
METHOD:PUBLISH
X-WR-CALNAME:Ocean State Chess Association
X-ORIGINAL-URL:https://oceanstatechess.com
X-WR-CALDESC:Events for Ocean State Chess Association
REFRESH-INTERVAL;VALUE=DURATION:PT1H
X-Robots-Tag:noindex
X-PUBLISHED-TTL:PT1H
BEGIN:VTIMEZONE
TZID:America/New_York
BEGIN:DAYLIGHT
TZOFFSETFROM:-0500
TZOFFSETTO:-0400
TZNAME:EDT
DTSTART:20230312T070000
END:DAYLIGHT
BEGIN:STANDARD
TZOFFSETFROM:-0400
TZOFFSETTO:-0500
TZNAME:EST
DTSTART:20231105T060000
END:STANDARD
BEGIN:DAYLIGHT
TZOFFSETFROM:-0500
TZOFFSETTO:-0400
TZNAME:EDT
DTSTART:20240310T070000
END:DAYLIGHT
BEGIN:STANDARD
TZOFFSETFROM:-0400
TZOFFSETTO:-0500
TZNAME:EST
DTSTART:20241103T060000
END:STANDARD
BEGIN:DAYLIGHT
TZOFFSETFROM:-0500
TZOFFSETTO:-0400
TZNAME:EDT
DTSTART:20250309T070000
END:DAYLIGHT
BEGIN:STANDARD
TZOFFSETFROM:-0400
TZOFFSETTO:-0500
TZNAME:EST
DTSTART:20251102T060000
END:STANDARD
END:VTIMEZONE
BEGIN:VEVENT
DTSTART;TZID=America/New_York:20240928T100000
DTEND;TZID=America/New_York:20240928T163000
DTSTAMP:20260421T121032
CREATED:20240222T161328Z
LAST-MODIFIED:20250815T221701Z
UID:9166-1727517600-1727541000@oceanstatechess.com
SUMMARY:DONATE - 2nd "Tomorrow Fund" Charity Chess Tournament for Child Cancer
DESCRIPTION:THIS TOURNAMENT ALREADY OCCURED – WE ARE STILL COLLECTING DONATIONS \n\n\n\n \n\n\n\nDonations being collected until October 9\, 2024 \n\n\n\n \n\n\n\nOcean State Chess Association is the Official R.I. State Affiliate of the United States Chess Federation \n\n\n\n100% of proceeds collected from this tournament will go to the Tomorrow Fund which helps families of children who have cancer. Please consider donating even if you cannot attend \n\n\n\nChess Tournament will be held in the Academic Innovation Center \, Room 130/131 (see above) at Bryant University\n\n\n\n \n\n\n\nTournament Location: Bryant University (NEW) AIC Building1150 Douglas PikeSmithfield\, RI 02917 *** PLEASE REGISTER AT BOTTOM OF THE PAGE *** \n\n\n\n   \n\n\n\n\n\n\n\n\n\n\n\n\n\n\n\n\n\n\n\n\n\n\n\n \n\n\n\nThe Tomorrow Fund provides daily financial and emotional support to children with cancer and their families. Kids treated in the Pediatric Oncology Program and The Tomorrow Fund Clinic at Hasbro Children’s Hospital in Providence\, Rhode Island support. These vital programs are made available to our patients and families from the time of diagnosis\, throughout treatment\, into recovery and beyond.Click on website for more info: https://www.tomorrowfund.org/ \n\n\n\nFormat: 4SS\, G/30; d5 – 4 Rounds. 30 minutes each\, 5 second delay.Round 1 starts around 10:00 AM. \n\n\n\nSECTIONS & PRIZES * OPEN = Special Championship Trophies for 1st\, 2nd\, 3rd place\, Medals* U1600 = Special Championship Trophies for 1st\, 2nd\, 3rd place\, Medals* U1000 = Special Championship Trophies for 1st\, 2nd\, 3rd place\, Medals* U600 = Special Championship Trophies for 1st\, 2nd\, 3rd Place\, Medals* UNRATED (Fun Games) No USCF = Trophy for 1st\, Medals for 2nd & 3rd \n\n\n\nMORE PRIZES: RAFFLE FOR CHILD CANCER – PLEASE BRING CASH $$ TO PARTICIPATE* $50 Indoor Go-Kart Tickets* $50 Amazon Card* $30 Providence Bruins Tickets two sets (4)* $25 Restaurant Gift Certificates* More Prizes to come! \n\n\n\nENTRY FEE DONATION FOR REGISTRATION:Open & U1600 Sections = $35 in advance U1000 & U600 = $30 in advanceUnrated Section = $25 in advanceRated Sections must have USCF membership. USCF Not Required in Unrated Section \n\n\n\n \n\n\n\nThank you to our Trophy Sponsor:David DelBonis\, PresidentPRECISION HOME LENDING (401) 487-7379website: https://ddphl.com/ \n\n\n\nPrecision Home Lending\, Cranston\, RI – Our Annual Tomorrow Fund Trophies Sponsor\n\n\n\n\n\nSpecial Trophies Awarded at the Tomorrow Fund Cancer Tournament\n\n\n\n\n\nTournament Winners from last years Tournament\n\n\n\n\n\nFREE USCF MEMBERSHIP FOR 1st -TIME UNRATED TOURNAMENT PLAYERS1st-Time New players (Unrated without USCF membership\, Not Renewals) will receive aFREE $20 USCF “Youth” Membership INCLUDED with Special $30 registration and Tournament is Free!Register below for either U600 or U1000 Section (For Scholastic Only) \n\n\n\nADDITIONAL TOURNAMENT INFORMATION* Local R.I. chess player Wayne Powers’ daughter survived leukemia and received encouragement & support from the “Tomorrow Fund.”The OSCA community would like to give back to them and other families who are currently experiencing the same hardship.* Tournament in the new $32 Million “AIC” Building = Academic Innovation Center Rooms 130/131* Round 1 will start at 10:00 AM\, will run continuously* Chess sets provided\, please bring a clock if you have one* Byes must be requested in advance. * Late entries paired if possible or get 1/2 point bye.* Players can always play “up” in a higher section. * OSCA reserves the right to combine or split sections* If you cannot attend\, please consider a small donation for the cause \n\n\n\n*** PLEASE REGISTER AT BOTTOM OF THE PAGE *** \n\n\n\n\n\nRI Governor Dan McKee with Wayne Powers Family\, Aria (front) is a child cancer survivor\n\n\n\n\n\nThank you to Bryant University for hosting the Tournament\n\n\n\n\n\nLOCAL DAD HOSTS CHESS TOURNAMENT TO SAY THANK YOU FOR DAUGHTER’S CANCER TREATMENT – MARCH 21\, 2024SEE 2 MIN VIDEO & READ NEWS ARTICLE (BELOW)https://turnto10.com/news/coronavirus/show-us-something-good/local-dad-hosts-chess-tournament-to-say-thank-you-for-daughters-cancer-treatment-the-tomorrow-fund-mentor-march-21-2024
URL:https://oceanstatechess.com/event/2nd-tomorrow-fund-tournament/
LOCATION:Bryant University\, 1150 Douglas Pike\, Smithfield\, Rhode Island\, 02917\, United States
CATEGORIES:Registration Fee,Tournament
ATTACH;FMTTYPE=image/jpeg:https://oceanstatechess.com/wp-content/uploads/2023/09/Tomorrow-Fund.jpg
ORGANIZER;CN="Ocean State Chess Association":MAILTO:frank@oceanstatechess.com
END:VEVENT
END:VCALENDAR