BEGIN:VCALENDAR
VERSION:2.0
PRODID:-//Ocean State Chess Association - ECPv6.15.20//NONSGML v1.0//EN
CALSCALE:GREGORIAN
METHOD:PUBLISH
X-WR-CALNAME:Ocean State Chess Association
X-ORIGINAL-URL:https://oceanstatechess.com
X-WR-CALDESC:Events for Ocean State Chess Association
REFRESH-INTERVAL;VALUE=DURATION:PT1H
X-Robots-Tag:noindex
X-PUBLISHED-TTL:PT1H
BEGIN:VTIMEZONE
TZID:America/New_York
BEGIN:DAYLIGHT
TZOFFSETFROM:-0500
TZOFFSETTO:-0400
TZNAME:EDT
DTSTART:20230312T070000
END:DAYLIGHT
BEGIN:STANDARD
TZOFFSETFROM:-0400
TZOFFSETTO:-0500
TZNAME:EST
DTSTART:20231105T060000
END:STANDARD
BEGIN:DAYLIGHT
TZOFFSETFROM:-0500
TZOFFSETTO:-0400
TZNAME:EDT
DTSTART:20240310T070000
END:DAYLIGHT
BEGIN:STANDARD
TZOFFSETFROM:-0400
TZOFFSETTO:-0500
TZNAME:EST
DTSTART:20241103T060000
END:STANDARD
BEGIN:DAYLIGHT
TZOFFSETFROM:-0500
TZOFFSETTO:-0400
TZNAME:EDT
DTSTART:20250309T070000
END:DAYLIGHT
BEGIN:STANDARD
TZOFFSETFROM:-0400
TZOFFSETTO:-0500
TZNAME:EST
DTSTART:20251102T060000
END:STANDARD
END:VTIMEZONE
BEGIN:VEVENT
DTSTART;TZID=America/New_York:20240922T100000
DTEND;TZID=America/New_York:20240922T150000
DTSTAMP:20260421T143004
CREATED:20240814T072557Z
LAST-MODIFIED:20240821T014124Z
UID:11979-1726999200-1727017200@oceanstatechess.com
SUMMARY:RICS September Scholastic (North Kingstown\, RI)
DESCRIPTION:Sunday\, September 22\, 2024 \n\n\n\nRICS located in the Hamilton Plaza in North Kingstown\, RI\n\n\n\n \n\n\n\nWhen: Sunday\, September 22nd – First Round at 10am. \n\n\n\nLocation: Rhode Island Chess School – 679 Boston Neck Rd\, North Kingstown\, RI 02852 \n\n\n\nSections: Unrated\, Under-700 (Rated)\, and Under-1400 (Rated). \n\n\n\nPlayers: Open to scholastic players\, K-12 only. \n\n\n\nFormat: 4 Round Swiss Tournament. \n\n\n\nRound Times: Round 1 at 10am. All others ASAP. \n\n\n\nTime Control: 25 Minutes with 5 second increment. Boards\, pieces\, and clocks provided. \n\n\n\nEntry Fee: $30.00 \n\n\n\nUSCF: Active USCF Membership required for all participants in the Rated section. \n\n\n\nPrizes: Trophies to top 3 each section\, medals to plus scores. \n\n\n\nCapacity: Tournament is limited to 32 players max. \n\n\n\nRegistration: No onsite registration. Please register online in advance. \n\n\n\nIncludes: 2 pieces of pizza for all tournament participants \n\n\n\nMore info: email info@richessschool.com \n\n\n\n\nBoards\, sets and clocks provided. We reserve the right to split or combine sections if necessary.
URL:https://oceanstatechess.com/event/ri-chess-school-september-scholastic/
LOCATION:Rhode Island Chess School\, 679 Boston Neck Rd\, North Kingstown\, Rhode Island\, 02852\, United States
ATTACH;FMTTYPE=image/png:https://oceanstatechess.com/wp-content/uploads/2024/08/image-5.png
ORGANIZER;CN="RICS":MAILTO:info@richessschool.com
END:VEVENT
END:VCALENDAR