BEGIN:VCALENDAR
VERSION:2.0
PRODID:-//Ocean State Chess Association - ECPv6.15.20//NONSGML v1.0//EN
CALSCALE:GREGORIAN
METHOD:PUBLISH
X-WR-CALNAME:Ocean State Chess Association
X-ORIGINAL-URL:https://oceanstatechess.com
X-WR-CALDESC:Events for Ocean State Chess Association
REFRESH-INTERVAL;VALUE=DURATION:PT1H
X-Robots-Tag:noindex
X-PUBLISHED-TTL:PT1H
BEGIN:VTIMEZONE
TZID:America/New_York
BEGIN:DAYLIGHT
TZOFFSETFROM:-0500
TZOFFSETTO:-0400
TZNAME:EDT
DTSTART:20230312T070000
END:DAYLIGHT
BEGIN:STANDARD
TZOFFSETFROM:-0400
TZOFFSETTO:-0500
TZNAME:EST
DTSTART:20231105T060000
END:STANDARD
BEGIN:DAYLIGHT
TZOFFSETFROM:-0500
TZOFFSETTO:-0400
TZNAME:EDT
DTSTART:20240310T070000
END:DAYLIGHT
BEGIN:STANDARD
TZOFFSETFROM:-0400
TZOFFSETTO:-0500
TZNAME:EST
DTSTART:20241103T060000
END:STANDARD
BEGIN:DAYLIGHT
TZOFFSETFROM:-0500
TZOFFSETTO:-0400
TZNAME:EDT
DTSTART:20250309T070000
END:DAYLIGHT
BEGIN:STANDARD
TZOFFSETFROM:-0400
TZOFFSETTO:-0500
TZNAME:EST
DTSTART:20251102T060000
END:STANDARD
END:VTIMEZONE
BEGIN:VEVENT
DTSTART;TZID=America/New_York:20240907T100000
DTEND;TZID=America/New_York:20240907T153000
DTSTAMP:20260421T102350
CREATED:20240821T032013Z
LAST-MODIFIED:20240903T050758Z
UID:12124-1725703200-1725723000@oceanstatechess.com
SUMMARY:CSCA Hartford County & City Championships (East Hartford\, CT) - $1\,000 Prizes
DESCRIPTION:Open to Out-of-State Players \n\n\n\n\n\n\n\nLocation: East Hartford Cultural Community Center\, Gymnasium50 Chapman Place\, East Hartford\, CT 06108 \n\n\n\n \n\n\n\n2024 Hartford County & City Championships$1\,000 in Guaranteed Prizes and Trophy Awards! – Open to Out-of-State PlayersSponsored by CSCA (Connecticut State Chess Association) \n\n\n\nClick here for Flyer:  https://www.chessct.org/csca/Uploads/HCCC.24.fly.pdf \n\n\n\nDate & Time: Saturday\, September 7\, 2024; Round 1 at 10a\, then ASAP. Online registration only thru 10:30a Sept 7. Sections/Rounds/ 5 Sections: Open/U2000/U1300/U700/NR; 4 Rounds SS: G/30+10. Time Control: Players rated over 299 cannot participate in NR (not rated). Byes: One ½ point bye in all but final Round; 0 point byes any Round. Prizes: $250-200\, $100 to Top U2200 in Open; $200-150\, $100 to Top U1600 in U2000;Trophies to Top 3 in U1300\, U700\, NR. Champion Trophies to Open Winner andTop City Resident overall. Medals to non-placers. Prizes via PayPal.  Entry Fee: Register online by 10:30a Sept 7; ½ pt Rd 1 bye after 9:30a Sept 7.Open/U2000: $45 by Sept 3; $55 by Sept 5; $65 by Sept 6; $80 thereafter.U1200/U700/NR: $35 by Sept 3; $45 by Sept 5; $55 by Sept 6; $70 thereafter.All registration online\, including same day. GMs/IMs FREE. \n\n\n\nCredits/Discounts: Sibling\, Senior\, Hardship available. Send request to chess.CSCA@gmail.com.Hartford/East Hartford/Manchester/Other Entries: All CSCA events provide FREE and DISCOUNTED registration toresidents from towns of lesser financial means. Most Connecticut cities and many towns qualify for this CSCA program.Additionally\, residents of other towns with financial challenges can use the Hardship Discount noted above. Please do not bediscouraged by the standard entries and contact us at chess.CSCA@gmail.com to assist your participation. \n\n\n\nNotes: This non-profit event is organized and sponsored by the Connecticut State Chess Association for the benefit of theConnecticut chess community. [1] Contact. All questions/inquiries to events.CSCA@gmail.com. [2] Tax requirements.Players receiving total payments of $600 or more from the CSCA in calendar year must submit a W-9 to the CSCA atevents.CSCA@gmail.com in advance of receiving prize. [3] Refunds/Cancellation Policy: To withdraw registration orrequest a refund\, email your request to events.CSCA@gmail.com no later than Sept 4 at 11:59 PM. Refund requests notreceived by email or received after the above deadline\, will not be honored. Refunds are subject to $15 administrative fee. [4]Unauthorized solicitation is prohibited. This is a nonprofit event for the Connecticut chess community\, and the CSCA eventPromotion Policy at CSCA Tournaments & Events is in effect. Please contact CSCA at events.CSCA@gmail.com foradvertising and promotional opportunities.
URL:https://oceanstatechess.com/event/hartford-county-and-city-championships/
LOCATION:East Hartford Cultural Community Center\, 50 Chapman Place\, East Hartford\, Connecticut\, 06108\, United States
ATTACH;FMTTYPE=image/jpeg:https://oceanstatechess.com/wp-content/uploads/2024/08/CT_East-Hartford-Community-Cultural-Center.jpg
ORGANIZER;CN="Connecticut State Chess Association":MAILTO:CSCA@gmail.com
END:VEVENT
END:VCALENDAR