BEGIN:VCALENDAR
VERSION:2.0
PRODID:-//Ocean State Chess Association - ECPv6.15.20//NONSGML v1.0//EN
CALSCALE:GREGORIAN
METHOD:PUBLISH
X-ORIGINAL-URL:https://oceanstatechess.com
X-WR-CALDESC:Events for Ocean State Chess Association
REFRESH-INTERVAL;VALUE=DURATION:PT1H
X-Robots-Tag:noindex
X-PUBLISHED-TTL:PT1H
BEGIN:VTIMEZONE
TZID:America/New_York
BEGIN:DAYLIGHT
TZOFFSETFROM:-0500
TZOFFSETTO:-0400
TZNAME:EDT
DTSTART:20230312T070000
END:DAYLIGHT
BEGIN:STANDARD
TZOFFSETFROM:-0400
TZOFFSETTO:-0500
TZNAME:EST
DTSTART:20231105T060000
END:STANDARD
BEGIN:DAYLIGHT
TZOFFSETFROM:-0500
TZOFFSETTO:-0400
TZNAME:EDT
DTSTART:20240310T070000
END:DAYLIGHT
BEGIN:STANDARD
TZOFFSETFROM:-0400
TZOFFSETTO:-0500
TZNAME:EST
DTSTART:20241103T060000
END:STANDARD
BEGIN:DAYLIGHT
TZOFFSETFROM:-0500
TZOFFSETTO:-0400
TZNAME:EDT
DTSTART:20250309T070000
END:DAYLIGHT
BEGIN:STANDARD
TZOFFSETFROM:-0400
TZOFFSETTO:-0500
TZNAME:EST
DTSTART:20251102T060000
END:STANDARD
END:VTIMEZONE
BEGIN:VEVENT
DTSTART;TZID=America/New_York:20240829T100000
DTEND;TZID=America/New_York:20240829T120000
DTSTAMP:20260423T045652
CREATED:20240826T063431Z
LAST-MODIFIED:20240829T063941Z
UID:12497-1724925600-1724932800@oceanstatechess.com
SUMMARY:2 Kids New Chess World Records (Burlington\, MA) - FREE EVENT
DESCRIPTION:2 STUDENTS WILL SET KIDS WORLD CHESS RECORDS !!! –  FREE EVENT  \n\n\n\nTHURSDAY\, AUG. 29   @ 10:00 AM – 12:00 PM \n\n\n\n\n\nRYAAN BOBBA (AGE 7) is placing 92 distinct variations of the eight queens puzzle in 20 minutes (736 Queens)\n\n\n\n\n\nTHEIA BOBBA (AGE 4) will solve 100 chess puzzles in 10 minutes on 100 chess boards !\n\n\n\n\n\n \n\n\n\nLocation: Academy of Creative Arts12 A St\, Burlington\, MA 01803 \n\n\n\n*World Chess Record Details: * Description:* RYAAN BOBBA (AGE 7) is placing 92 distinct variations on 92 Chess Boards\, with an eight queens puzzle in 20 minutes on 8×8 chess boards. This requires placing 736 Queens on 92 chess boards\, in a way that no two share the same row\, column\, or diagonal \n\n\n\n* World Chess Record Details: * Description: * THEIA BOBBA (AGE 4) will solve 100 chess puzzles on 100 chess boards in 10 minutes \n\n\n\n \n\n\n\nThis event will be adjudicated by* WORLD BOOK of RECORDS\, LONDON* AMERICAN BOOK of RECORDS* NOBLE BOOK of RECORDS* FORBES BOOK of RECORDS \n\n\n\n \n\n\n\nFor More Information Contact: Divya Sri –   Phone: (781) 496-8299\, email: divyasri.47@gmail.com
URL:https://oceanstatechess.com/event/kids-chess-world-records/
LOCATION:Academy of Creative Arts\, 12 A Street\, Burlington\, Massachusetts\, 01803\, United States
ATTACH;FMTTYPE=image/jpeg:https://oceanstatechess.com/wp-content/uploads/2024/08/Bobba_Theia.jpg
END:VEVENT
END:VCALENDAR