BEGIN:VCALENDAR
VERSION:2.0
PRODID:-//Ocean State Chess Association - ECPv6.15.20//NONSGML v1.0//EN
CALSCALE:GREGORIAN
METHOD:PUBLISH
X-WR-CALNAME:Ocean State Chess Association
X-ORIGINAL-URL:https://oceanstatechess.com
X-WR-CALDESC:Events for Ocean State Chess Association
REFRESH-INTERVAL;VALUE=DURATION:PT1H
X-Robots-Tag:noindex
X-PUBLISHED-TTL:PT1H
BEGIN:VTIMEZONE
TZID:America/New_York
BEGIN:DAYLIGHT
TZOFFSETFROM:-0500
TZOFFSETTO:-0400
TZNAME:EDT
DTSTART:20230312T070000
END:DAYLIGHT
BEGIN:STANDARD
TZOFFSETFROM:-0400
TZOFFSETTO:-0500
TZNAME:EST
DTSTART:20231105T060000
END:STANDARD
BEGIN:DAYLIGHT
TZOFFSETFROM:-0500
TZOFFSETTO:-0400
TZNAME:EDT
DTSTART:20240310T070000
END:DAYLIGHT
BEGIN:STANDARD
TZOFFSETFROM:-0400
TZOFFSETTO:-0500
TZNAME:EST
DTSTART:20241103T060000
END:STANDARD
BEGIN:DAYLIGHT
TZOFFSETFROM:-0500
TZOFFSETTO:-0400
TZNAME:EDT
DTSTART:20250309T070000
END:DAYLIGHT
BEGIN:STANDARD
TZOFFSETFROM:-0400
TZOFFSETTO:-0500
TZNAME:EST
DTSTART:20251102T060000
END:STANDARD
END:VTIMEZONE
BEGIN:VEVENT
DTSTART;TZID=America/New_York:20240817T100000
DTEND;TZID=America/New_York:20240817T170000
DTSTAMP:20260423T045444
CREATED:20240626T173829Z
LAST-MODIFIED:20240814T065409Z
UID:11423-1723888800-1723914000@oceanstatechess.com
SUMMARY:OSCA Collaboration: Providence Free USCF Octagons Tournament & Chess Lecture (Providence\, RI)
DESCRIPTION:SATURDAY\, AUGUST 17\, 2024 \n\n\n\n\n\n\n\n\n\nLocation:Rochambeau Community Library 708 Hope Street inProvidence\, RI 02906 \n\n\n\nFormat: 3SS\, G/40;d5\, 6-8 players per section with similar ratingTournament is 3 rounds. players get 40 minutes each with 5 second delayMust be a USCF Member to participate. Limited to 32 players \n\n\n\nAdditional Information* Ocean State Chess Association is helping to sponsor & promote this free event* Tournament will be from 10:00 am – 4:00 pm* Anyone and Everyone is welcome to attend the Chess Lecture at 4:00 – 5:00 pm* Larry Cohen\, Associate National TD is doing this to play & direct a tournament in all 50 states   Rhode Island is his last state !!! * Check in at 9:45-10am on Saturday morning* 3 Rounds are 10:15-12:30-2:30* Bring boards Sets\, and chess clocks as few will be provided * Limit of 1 half point Bye if requested in advance* There is no cost to play in the Octagons* You MUST already be a USCF member * Register in advance. Limit 32 players\, Not sure how many openings the day of the event* For more information you can email: allamericaschess@gmail.com* Book prize to winner of each Octagon section* Register (see link below) for Tournament\, for more info go to Kingregistration.com
URL:https://oceanstatechess.com/event/providence-free-octagons-chess-lecture/
LOCATION:Rochambeau Library\, 708 Hope Street\, Providence\, Rhode Island\, 02906\, United States
END:VEVENT
END:VCALENDAR