BEGIN:VCALENDAR
VERSION:2.0
PRODID:-//Ocean State Chess Association - ECPv6.15.20//NONSGML v1.0//EN
CALSCALE:GREGORIAN
METHOD:PUBLISH
X-WR-CALNAME:Ocean State Chess Association
X-ORIGINAL-URL:https://oceanstatechess.com
X-WR-CALDESC:Events for Ocean State Chess Association
REFRESH-INTERVAL;VALUE=DURATION:PT1H
X-Robots-Tag:noindex
X-PUBLISHED-TTL:PT1H
BEGIN:VTIMEZONE
TZID:America/New_York
BEGIN:DAYLIGHT
TZOFFSETFROM:-0500
TZOFFSETTO:-0400
TZNAME:EDT
DTSTART:20230312T070000
END:DAYLIGHT
BEGIN:STANDARD
TZOFFSETFROM:-0400
TZOFFSETTO:-0500
TZNAME:EST
DTSTART:20231105T060000
END:STANDARD
BEGIN:DAYLIGHT
TZOFFSETFROM:-0500
TZOFFSETTO:-0400
TZNAME:EDT
DTSTART:20240310T070000
END:DAYLIGHT
BEGIN:STANDARD
TZOFFSETFROM:-0400
TZOFFSETTO:-0500
TZNAME:EST
DTSTART:20241103T060000
END:STANDARD
BEGIN:DAYLIGHT
TZOFFSETFROM:-0500
TZOFFSETTO:-0400
TZNAME:EDT
DTSTART:20250309T070000
END:DAYLIGHT
BEGIN:STANDARD
TZOFFSETFROM:-0400
TZOFFSETTO:-0500
TZNAME:EST
DTSTART:20251102T060000
END:STANDARD
END:VTIMEZONE
BEGIN:VEVENT
DTSTART;TZID=America/New_York:20240810T100000
DTEND;TZID=America/New_York:20240810T160000
DTSTAMP:20260421T084716
CREATED:20240717T205334Z
LAST-MODIFIED:20240807T180205Z
UID:11582-1723284000-1723305600@oceanstatechess.com
SUMMARY:OSCA Collaboration: 2nd Annual Rogers Free Library Chess Tournament (Bristol\, RI)
DESCRIPTION:SATURDAY\, AUGUST 10\, 2024 \n\n\n\n\n\n\n\nLocation:Rogers Free Library525 Hope StreetBristol\, RI 02809    \n\n\n\nEntry: FREE to PlayPlease Register Early\, Limited Space. Link at bottom of this page \n\n\n\nFormat: 4SS\, G/30;d5 – 4 Rounds\, 30 minutes each\, 5 second delay \n\n\n\nSections & Prizes – Both Sections are Unrated* Advanced Section (Adult & Kids) – 1st\, 2nd\, 3rd place trophies & chess books * Intermediate / Novice Section (Adults & Kids) – 1st\, 2nd\, 3rd place trophies & chess books \n\n\n\nPRIZES – Advanced Section1st Place – $75 Gift Certificate\, Le Central French Café (Bristol)   https://www.lecentralbristol.net/2nd Place – $50 Gift Certificate\, The Beehive Café by the waterfront (Bristol)  https://thebeehivecafe.com/3rd Place – $25 Gift Certificate\, Plant City Restaurant (Barrington)    https://plantcitybarrington.com/ \n\n\n\nPRIZES – Intermediate / Novice1st Place Trophy 2nd Place Trophy3rd Place Medals \n\n\n\nDate: Saturday\, August 10\, 2024  Time: 10:00 AM – 4:00 PMLocation: Roger Library\, Upstairs Conference RoomAudience:  All Ages  Categories:  Clubs \n\n\n\n \n\n\n\nTournament Information* Both Adults & Kids are invited to compete in the 2nd Annual RFL Chess Championship* ALL PLAYERS looking to participate MUST register * Tournament is Free\, please register early\, and contact us if you need to cancel* 30-32 people will compete for the title and grand prizes!* Tournament will start promptly at 10:00 am\, please check in by 9:45 am* Chess sets will be provided\, please bring a clock if you have one* Bring your best game and good luck* Event is sponsored by Roger Free Library with help from Ocean State Chess Association* Volunteer Chief TD: Frank DelBonis\, Associate National Tournament Director\, OSCA \n\n\n\nREGISTRATION (LINK): CLICK HERE \n\n\n\n \n\n\n\n\n\n\n\n \n\n\n\n\n\nUSCF Tournament Link:  https://new.uschess.org/2nd-annual-rogers-free-library-chess-tournament
URL:https://oceanstatechess.com/event/rfl-chess-tournament/
LOCATION:Rogers Free Library\, 525 Hope Street\, Bristol\, Rhode Island\, United States
END:VEVENT
END:VCALENDAR