BEGIN:VCALENDAR
VERSION:2.0
PRODID:-//Ocean State Chess Association - ECPv6.15.20//NONSGML v1.0//EN
CALSCALE:GREGORIAN
METHOD:PUBLISH
X-WR-CALNAME:Ocean State Chess Association
X-ORIGINAL-URL:https://oceanstatechess.com
X-WR-CALDESC:Events for Ocean State Chess Association
REFRESH-INTERVAL;VALUE=DURATION:PT1H
X-Robots-Tag:noindex
X-PUBLISHED-TTL:PT1H
BEGIN:VTIMEZONE
TZID:America/New_York
BEGIN:DAYLIGHT
TZOFFSETFROM:-0500
TZOFFSETTO:-0400
TZNAME:EDT
DTSTART:20230312T070000
END:DAYLIGHT
BEGIN:STANDARD
TZOFFSETFROM:-0400
TZOFFSETTO:-0500
TZNAME:EST
DTSTART:20231105T060000
END:STANDARD
BEGIN:DAYLIGHT
TZOFFSETFROM:-0500
TZOFFSETTO:-0400
TZNAME:EDT
DTSTART:20240310T070000
END:DAYLIGHT
BEGIN:STANDARD
TZOFFSETFROM:-0400
TZOFFSETTO:-0500
TZNAME:EST
DTSTART:20241103T060000
END:STANDARD
BEGIN:DAYLIGHT
TZOFFSETFROM:-0500
TZOFFSETTO:-0400
TZNAME:EDT
DTSTART:20250309T070000
END:DAYLIGHT
BEGIN:STANDARD
TZOFFSETFROM:-0400
TZOFFSETTO:-0500
TZNAME:EST
DTSTART:20251102T060000
END:STANDARD
END:VTIMEZONE
BEGIN:VEVENT
DTSTART;TZID=America/New_York:20240615T000000
DTEND;TZID=America/New_York:20240616T235959
DTSTAMP:20260422T134358
CREATED:20240524T201754Z
LAST-MODIFIED:20240603T185951Z
UID:10978-1718409600-1718582399@oceanstatechess.com
SUMMARY:NEC Event: 2024 New England Class Championship (Marlboro\, MA) - $6\,500 Projected
DESCRIPTION:Saturday\, June 15th – Sunday June 16th\, 2024 \n\n\n\n\n\n\n\n\n\nEVENT OVERVIEW\n\n\n\n2024 New England Class Championship \n\n\n\nLocation: Best Western Royal Plaza Hotel & Trade Center 181 Boston Post Road W\, Marlboro\, MA 01752  \n\n\n\n$6\,500+ projected prizes! $3\,250 (50%) Guaranteed! – Limited to first 120 players \n\n\n\nFormat: 5 rounds Swiss System\, G/60+30 Saturday\, G/90+30 SundayRounds: Saturday: 10am-2pm-6pm Sunday: 10am-3pm \n\n\n\nSECTIONS & PRIZESMaster/Expert: $2\,100 based on 20 entries: $1\,000-500\, U2400 $325\, U2200 $275Class A: $900 based on 15 entries: $500-250\, U1900 $150Class B:  $900 based on 15 entries: $500-250\, U1700 $150Class C:  $900 based on 15 entries: $500-250\, U1500 $150Class D:  $900 based on 15 entries: $500-250\, U1300 $150 Class E/Below: $800 based on 20 entries: $400-200\, U1000 $120\, Unrated $80 \n\n\n\nPlaques and the title of New England Class Champion will also be awarded to the top finisher in each Class (including Expert) residing in New England. (ME\, VT\, NH\, MA\, CT\, or RI) \n\n\n\nEntry Fee: $120 for Master/Expert\, $80 for Class A\, B\, C\, and D\, $60 for Class E/Below. EF $10 more after May 20th\, $20 after June 13th and on site. $50 Play-up fee\, players may only play up 1 section.   \n\n\n\nRatings are based off of the published June 2024 USCF Rating List. Unrated players may only play in the Class E/Below section and are only eligible for the Unrated prize.  \n\n\n\nGrand Prix: This event is a 4x multiplier in the New England Grand Prix\, a new circuit of local tournaments that reward players who play and finish more events. To view the details\, prizes\, standings\, and upcoming Grand Prix Events\, visit the New England Chess Association website here: https://newenglandchess.org/   \n\n\n\nByes: 2 half-point byes allowed\, must commit before the start of Round 2.  \n\n\n\n* The tournament will take place in the Marlborough Room.* Bring sets and clocks\, limited amount provided \n\n\n\nHOTEL: You can book a room at the chess rate of $134 by clicking here: https://www.bestwestern.com/en_US/book/hotel-rooms.22024.html?groupId=W11BY2L9  \n\n\n\nREGISTRATION: Online advance entry available at onlineregistration.cc. Scroll down the webpage until you see the event\, which is being held by RAR. Onsite registration: from 9:00 – 9:45am on June 15th.Questions – Email  josephtruelson@gmail.com \n\n\n\nAddress:Best Western Royal Plaza Hotel181 Boston Post Road WMarlboro\, MA 01752 \n\n\n\nORGANIZER\n\n\n\nNew England Chess AssociationEmail: josephtruelson@gmail.comPhone: 651-443-6341Website: https://newenglandchess.org/
URL:https://oceanstatechess.com/event/new-england-class-championship/
LOCATION:Massachusetts
END:VEVENT
END:VCALENDAR